BEGIN:VCALENDAR
VERSION:2.0
PRODID:-//Ligue Île-de-France de Badminton - ECPv6.5.1.6//NONSGML v1.0//EN
CALSCALE:GREGORIAN
METHOD:PUBLISH
X-WR-CALNAME:Ligue Île-de-France de Badminton
X-ORIGINAL-URL:https://www.lifb.org
X-WR-CALDESC:évènements pour Ligue Île-de-France de Badminton
REFRESH-INTERVAL;VALUE=DURATION:PT1H
X-Robots-Tag:noindex
X-PUBLISHED-TTL:PT1H
BEGIN:VTIMEZONE
TZID:Europe/Paris
BEGIN:DAYLIGHT
TZOFFSETFROM:+0100
TZOFFSETTO:+0200
TZNAME:CEST
DTSTART:20210328T010000
END:DAYLIGHT
BEGIN:STANDARD
TZOFFSETFROM:+0200
TZOFFSETTO:+0100
TZNAME:CET
DTSTART:20211031T010000
END:STANDARD
END:VTIMEZONE
BEGIN:VEVENT
DTSTART;TZID=Europe/Paris:20210421T193000
DTEND;TZID=Europe/Paris:20210421T223000
DTSTAMP:20260426T040552
CREATED:20210220T180516Z
LAST-MODIFIED:20210412T135245Z
UID:7443-1619033400-1619044200@www.lifb.org
SUMMARY:Conseil d’Administration
DESCRIPTION:
URL:https://www.lifb.org/evenement/conseil-dadministration-3/
LOCATION:Teams\, 64\, Rue du Couëdic Paris\, Paris\, France
CATEGORIES:Administration
END:VEVENT
END:VCALENDAR