BEGIN:VCALENDAR
VERSION:2.0
PRODID:-//Ligue Île-de-France de Badminton - ECPv6.5.1.6//NONSGML v1.0//EN
CALSCALE:GREGORIAN
METHOD:PUBLISH
X-ORIGINAL-URL:https://www.lifb.org
X-WR-CALDESC:évènements pour Ligue Île-de-France de Badminton
REFRESH-INTERVAL;VALUE=DURATION:PT1H
X-Robots-Tag:noindex
X-PUBLISHED-TTL:PT1H
BEGIN:VTIMEZONE
TZID:Europe/Paris
BEGIN:DAYLIGHT
TZOFFSETFROM:+0100
TZOFFSETTO:+0200
TZNAME:CEST
DTSTART:20210328T010000
END:DAYLIGHT
BEGIN:STANDARD
TZOFFSETFROM:+0200
TZOFFSETTO:+0100
TZNAME:CET
DTSTART:20211031T010000
END:STANDARD
END:VTIMEZONE
BEGIN:VEVENT
DTSTART;TZID=Europe/Paris:20210925T080000
DTEND;TZID=Europe/Paris:20210926T170000
DTSTAMP:20260425T211337
CREATED:20210906T140947Z
LAST-MODIFIED:20210906T140947Z
UID:9324-1632556800-1632675600@www.lifb.org
SUMMARY:ICN J1
DESCRIPTION:
URL:https://www.lifb.org/evenement/icn-j1/
CATEGORIES:Compétitions Ligue
END:VEVENT
BEGIN:VEVENT
DTSTART;TZID=Europe/Paris:20210925T080000
DTEND;TZID=Europe/Paris:20210926T210000
DTSTAMP:20260425T211337
CREATED:20210624T144218Z
LAST-MODIFIED:20210624T144218Z
UID:8675-1632556800-1632690000@www.lifb.org
SUMMARY:Top Elite Double
DESCRIPTION:
URL:https://www.lifb.org/evenement/top-elite-double/
LOCATION:Inconnu\, Paris\, France
CATEGORIES:Compétitions Ligue
END:VEVENT
END:VCALENDAR