BEGIN:VCALENDAR
VERSION:2.0
PRODID:-//Ligue Île-de-France de Badminton - ECPv6.5.1.6//NONSGML v1.0//EN
CALSCALE:GREGORIAN
METHOD:PUBLISH
X-WR-CALNAME:Ligue Île-de-France de Badminton
X-ORIGINAL-URL:https://www.lifb.org
X-WR-CALDESC:évènements pour Ligue Île-de-France de Badminton
REFRESH-INTERVAL;VALUE=DURATION:PT1H
X-Robots-Tag:noindex
X-PUBLISHED-TTL:PT1H
BEGIN:VTIMEZONE
TZID:Europe/Paris
BEGIN:DAYLIGHT
TZOFFSETFROM:+0100
TZOFFSETTO:+0200
TZNAME:CEST
DTSTART:20210328T010000
END:DAYLIGHT
BEGIN:STANDARD
TZOFFSETFROM:+0200
TZOFFSETTO:+0100
TZNAME:CET
DTSTART:20211031T010000
END:STANDARD
END:VTIMEZONE
BEGIN:VEVENT
DTSTART;VALUE=DATE:20211002
DTEND;VALUE=DATE:20211004
DTSTAMP:20260425T195215
CREATED:20210811T091628Z
LAST-MODIFIED:20210811T123415Z
UID:9004-1633132800-1633305599@www.lifb.org
SUMMARY:Formation GEO 91
DESCRIPTION:Les GEstionnaires et Organisateurs de compétition (GEO) organisent un tournoi (ou tout autre type de compétition) : de la demande d’autorisation sur Poona à l’envoi des résultats finaux à la FFBaD\, sous le contrôle du Juge-Arbitre (JA). C’est une personne indispensable au bon fonctionnement du tournoi. Ce rôle est accessible à partir de 16 ans. Si vous avez l’âme d’un organisateur et que ce rôle vous attire\, alors n’hésitez plus ! \nLa formation a lieu en général sur un week-end avec une première journée consacrée plutôt au module « OC » (Organisateur de Compétition) et une seconde journée orientée logiciels « ULC » (Utilisation des Logiciels de Compétition). \nCette formation est aussi le premier prérequis pour devenir Juge-Arbitre et est très importante pour son parcours. \n\n\nÀ l’issue du stage\, une attestation de fin de formation est remise aux candidats par le formateur principal.
URL:https://www.lifb.org/evenement/formation-geo-91/
LOCATION:Mennecy\, Mennecy\, France
CATEGORIES:Formations OT
END:VEVENT
BEGIN:VEVENT
DTSTART;VALUE=DATE:20211002
DTEND;VALUE=DATE:20211004
DTSTAMP:20260425T195215
CREATED:20210811T092312Z
LAST-MODIFIED:20210811T123430Z
UID:9008-1633132800-1633305599@www.lifb.org
SUMMARY:Formation GEO 95
DESCRIPTION:Les GEstionnaires et Organisateurs de compétition (GEO) organisent un tournoi (ou tout autre type de compétition) : de la demande d’autorisation sur Poona à l’envoi des résultats finaux à la FFBaD\, sous le contrôle du Juge-Arbitre (JA). C’est une personne indispensable au bon fonctionnement du tournoi. Ce rôle est accessible à partir de 16 ans. Si vous avez l’âme d’un organisateur et que ce rôle vous attire\, alors n’hésitez plus ! \nLa formation a lieu en général sur un week-end avec une première journée consacrée plutôt au module « OC » (Organisateur de Compétition) et une seconde journée orientée logiciels « ULC » (Utilisation des Logiciels de Compétition). \nCette formation est aussi le premier prérequis pour devenir Juge-Arbitre et est très importante pour son parcours. \n\n\nÀ l’issue du stage\, une attestation de fin de formation est remise aux candidats par le formateur principal.
URL:https://www.lifb.org/evenement/formation-geo-95/
LOCATION:CDFAS Eaubonne\, 64 Rue des Bouquinvilles\, Eaubonne\, 95600\, France
CATEGORIES:Formations OT
END:VEVENT
BEGIN:VEVENT
DTSTART;VALUE=DATE:20211002
DTEND;VALUE=DATE:20211004
DTSTAMP:20260425T195215
CREATED:20210831T080132Z
LAST-MODIFIED:20210831T080849Z
UID:9194-1633132800-1633305599@www.lifb.org
SUMMARY:MODEF CD 75
DESCRIPTION:
URL:https://www.lifb.org/evenement/modef-cd-75/
LOCATION:Paris\, PARIS\, 75000
CATEGORIES:Formations encadrants
END:VEVENT
END:VCALENDAR