BEGIN:VCALENDAR
VERSION:2.0
PRODID:-//Ligue Île-de-France de Badminton - ECPv6.5.1.6//NONSGML v1.0//EN
CALSCALE:GREGORIAN
METHOD:PUBLISH
X-ORIGINAL-URL:https://www.lifb.org
X-WR-CALDESC:évènements pour Ligue Île-de-France de Badminton
REFRESH-INTERVAL;VALUE=DURATION:PT1H
X-Robots-Tag:noindex
X-PUBLISHED-TTL:PT1H
BEGIN:VTIMEZONE
TZID:Europe/Paris
BEGIN:DAYLIGHT
TZOFFSETFROM:+0100
TZOFFSETTO:+0200
TZNAME:CEST
DTSTART:20210328T010000
END:DAYLIGHT
BEGIN:STANDARD
TZOFFSETFROM:+0200
TZOFFSETTO:+0100
TZNAME:CET
DTSTART:20211031T010000
END:STANDARD
END:VTIMEZONE
BEGIN:VEVENT
DTSTART;VALUE=DATE:20211009
DTEND;VALUE=DATE:20211011
DTSTAMP:20260425T195502
CREATED:20210831T080436Z
LAST-MODIFIED:20210929T083710Z
UID:9198-1633737600-1633910399@www.lifb.org
SUMMARY:MODEF CD 94
DESCRIPTION:
URL:https://www.lifb.org/evenement/modef-cd-94/
CATEGORIES:Formations encadrants
END:VEVENT
BEGIN:VEVENT
DTSTART;VALUE=DATE:20211009
DTEND;VALUE=DATE:20211011
DTSTAMP:20260425T195502
CREATED:20210909T151106Z
LAST-MODIFIED:20210909T151240Z
UID:9413-1633737600-1633910399@www.lifb.org
SUMMARY:Formation Arbitre Ligue Accrédité
DESCRIPTION:
URL:https://www.lifb.org/evenement/formation-arbitre-ligue-accredite-cd/
LOCATION:Saint-Maur-des-Fossés\, Saint-Maur-des-Fossés\, France
CATEGORIES:Formations OT
END:VEVENT
BEGIN:VEVENT
DTSTART;TZID=Europe/Paris:20211009T080000
DTEND;TZID=Europe/Paris:20211010T210000
DTSTAMP:20260425T195502
CREATED:20210624T144334Z
LAST-MODIFIED:20210624T144624Z
UID:8677-1633766400-1633899600@www.lifb.org
SUMMARY:Championnat Régional Jeunes 2021
DESCRIPTION:
URL:https://www.lifb.org/evenement/championnat-regional-jeunes-2021/
LOCATION:Saint-Maur-des-Fossés\, Saint-Maur-des-Fossés\, France
CATEGORIES:Compétitions Ligue
END:VEVENT
END:VCALENDAR