BEGIN:VCALENDAR
VERSION:2.0
PRODID:-//Ligue Île-de-France de Badminton - ECPv6.5.1.6//NONSGML v1.0//EN
CALSCALE:GREGORIAN
METHOD:PUBLISH
X-ORIGINAL-URL:https://www.lifb.org
X-WR-CALDESC:évènements pour Ligue Île-de-France de Badminton
REFRESH-INTERVAL;VALUE=DURATION:PT1H
X-Robots-Tag:noindex
X-PUBLISHED-TTL:PT1H
BEGIN:VTIMEZONE
TZID:Europe/Paris
BEGIN:DAYLIGHT
TZOFFSETFROM:+0100
TZOFFSETTO:+0200
TZNAME:CEST
DTSTART:20210328T010000
END:DAYLIGHT
BEGIN:STANDARD
TZOFFSETFROM:+0200
TZOFFSETTO:+0100
TZNAME:CET
DTSTART:20211031T010000
END:STANDARD
END:VTIMEZONE
BEGIN:VEVENT
DTSTART;TZID=Europe/Paris:20211103T080000
DTEND;TZID=Europe/Paris:20211106T170000
DTSTAMP:20260425T183339
CREATED:20210906T134834Z
LAST-MODIFIED:20210906T134834Z
UID:9307-1635926400-1636218000@www.lifb.org
SUMMARY:Championnat de France Elite
DESCRIPTION:
URL:https://www.lifb.org/evenement/championnat-de-france-elite/
LOCATION:Besançon
CATEGORIES:Compétitions Ligue
END:VEVENT
END:VCALENDAR