BEGIN:VCALENDAR
VERSION:2.0
PRODID:-//Ligue Île-de-France de Badminton - ECPv6.5.1.6//NONSGML v1.0//EN
CALSCALE:GREGORIAN
METHOD:PUBLISH
X-WR-CALNAME:Ligue Île-de-France de Badminton
X-ORIGINAL-URL:https://www.lifb.org
X-WR-CALDESC:évènements pour Ligue Île-de-France de Badminton
REFRESH-INTERVAL;VALUE=DURATION:PT1H
X-Robots-Tag:noindex
X-PUBLISHED-TTL:PT1H
BEGIN:VTIMEZONE
TZID:Europe/Paris
BEGIN:DAYLIGHT
TZOFFSETFROM:+0100
TZOFFSETTO:+0200
TZNAME:CEST
DTSTART:20210328T010000
END:DAYLIGHT
BEGIN:STANDARD
TZOFFSETFROM:+0200
TZOFFSETTO:+0100
TZNAME:CET
DTSTART:20211031T010000
END:STANDARD
END:VTIMEZONE
BEGIN:VEVENT
DTSTART;TZID=Europe/Paris:20211111T080000
DTEND;TZID=Europe/Paris:20211114T170000
DTSTAMP:20260425T183848
CREATED:20210906T135236Z
LAST-MODIFIED:20210906T135236Z
UID:9314-1636617600-1636909200@www.lifb.org
SUMMARY:Championnat de France Jeunes
DESCRIPTION:
URL:https://www.lifb.org/evenement/championnat-de-france-jeunes/
LOCATION:Mulhouse
CATEGORIES:Compétitions Ligue
END:VEVENT
BEGIN:VEVENT
DTSTART;TZID=Europe/Paris:20211112T080000
DTEND;TZID=Europe/Paris:20211114T170000
DTSTAMP:20260425T183848
CREATED:20210906T135038Z
LAST-MODIFIED:20210906T135038Z
UID:9311-1636704000-1636909200@www.lifb.org
SUMMARY:Championnat de France Vétérans
DESCRIPTION:
URL:https://www.lifb.org/evenement/championnat-de-france-veterans/
LOCATION:Annemasse
CATEGORIES:Compétitions Ligue
END:VEVENT
END:VCALENDAR