BEGIN:VCALENDAR
VERSION:2.0
PRODID:-//Ligue Île-de-France de Badminton - ECPv6.5.1.6//NONSGML v1.0//EN
CALSCALE:GREGORIAN
METHOD:PUBLISH
X-ORIGINAL-URL:https://www.lifb.org
X-WR-CALDESC:évènements pour Ligue Île-de-France de Badminton
REFRESH-INTERVAL;VALUE=DURATION:PT1H
X-Robots-Tag:noindex
X-PUBLISHED-TTL:PT1H
BEGIN:VTIMEZONE
TZID:Europe/Paris
BEGIN:DAYLIGHT
TZOFFSETFROM:+0100
TZOFFSETTO:+0200
TZNAME:CEST
DTSTART:20210328T010000
END:DAYLIGHT
BEGIN:STANDARD
TZOFFSETFROM:+0200
TZOFFSETTO:+0100
TZNAME:CET
DTSTART:20211031T010000
END:STANDARD
END:VTIMEZONE
BEGIN:VEVENT
DTSTART;VALUE=DATE:20211204
DTEND;VALUE=DATE:20211206
DTSTAMP:20260425T171459
CREATED:20210831T081337Z
LAST-MODIFIED:20210831T081337Z
UID:9215-1638576000-1638748799@www.lifb.org
SUMMARY:AB1 CD 77
DESCRIPTION:
URL:https://www.lifb.org/evenement/ab1-cd-77/
CATEGORIES:Formations encadrants
END:VEVENT
BEGIN:VEVENT
DTSTART;TZID=Europe/Paris:20211204T080000
DTEND;TZID=Europe/Paris:20211205T210000
DTSTAMP:20260425T171459
CREATED:20210624T144907Z
LAST-MODIFIED:20210624T144907Z
UID:8687-1638604800-1638738000@www.lifb.org
SUMMARY:Championnat Régional Vétérans
DESCRIPTION:
URL:https://www.lifb.org/evenement/championnat-regional-veterans-2/
LOCATION:Inconnu\, Paris\, France
CATEGORIES:Compétitions Ligue
END:VEVENT
END:VCALENDAR