BEGIN:VCALENDAR
VERSION:2.0
PRODID:-//Ligue Île-de-France de Badminton - ECPv6.5.1.6//NONSGML v1.0//EN
CALSCALE:GREGORIAN
METHOD:PUBLISH
X-ORIGINAL-URL:https://www.lifb.org
X-WR-CALDESC:évènements pour Ligue Île-de-France de Badminton
REFRESH-INTERVAL;VALUE=DURATION:PT1H
X-Robots-Tag:noindex
X-PUBLISHED-TTL:PT1H
BEGIN:VTIMEZONE
TZID:Europe/Paris
BEGIN:DAYLIGHT
TZOFFSETFROM:+0100
TZOFFSETTO:+0200
TZNAME:CEST
DTSTART:20220327T010000
END:DAYLIGHT
BEGIN:STANDARD
TZOFFSETFROM:+0200
TZOFFSETTO:+0100
TZNAME:CET
DTSTART:20221030T010000
END:STANDARD
END:VTIMEZONE
BEGIN:VEVENT
DTSTART;TZID=Europe/Paris:20220203T080000
DTEND;TZID=Europe/Paris:20220206T170000
DTSTAMP:20260425T142928
CREATED:20210906T140210Z
LAST-MODIFIED:20210906T140411Z
UID:9319-1643875200-1644166800@www.lifb.org
SUMMARY:Championnat de France Elite
DESCRIPTION:
URL:https://www.lifb.org/evenement/championnat-de-france-elite-2/
LOCATION:Boulazac
CATEGORIES:Compétitions Ligue
END:VEVENT
BEGIN:VEVENT
DTSTART;VALUE=DATE:20220205
DTEND;VALUE=DATE:20220207
DTSTAMP:20260425T142928
CREATED:20210614T153122Z
LAST-MODIFIED:20210614T153607Z
UID:8443-1644019200-1644191999@www.lifb.org
SUMMARY:CQP Séquence 4
DESCRIPTION:
URL:https://www.lifb.org/evenement/cqp-sequence-4/
LOCATION:Fontenay-aux-Roses\, Fontenay-aux-Roses\, France
CATEGORIES:Formations encadrants
END:VEVENT
BEGIN:VEVENT
DTSTART;VALUE=DATE:20220205
DTEND;VALUE=DATE:20220207
DTSTAMP:20260425T142928
CREATED:20210831T081944Z
LAST-MODIFIED:20210831T081944Z
UID:9231-1644019200-1644191999@www.lifb.org
SUMMARY:AB1 CD 94
DESCRIPTION:
URL:https://www.lifb.org/evenement/ab1-cd-94/
CATEGORIES:Formations encadrants
END:VEVENT
BEGIN:VEVENT
DTSTART;TZID=Europe/Paris:20220205T080000
DTEND;TZID=Europe/Paris:20220206T210000
DTSTAMP:20260425T142928
CREATED:20210624T145216Z
LAST-MODIFIED:20210624T145216Z
UID:8695-1644048000-1644181200@www.lifb.org
SUMMARY:CRJ n°2
DESCRIPTION:
URL:https://www.lifb.org/evenement/crj-n2/
LOCATION:Inconnu\, Paris\, France
CATEGORIES:Compétitions Ligue
END:VEVENT
END:VCALENDAR