BEGIN:VCALENDAR
VERSION:2.0
PRODID:-//Ligue Île-de-France de Badminton - ECPv6.5.1.6//NONSGML v1.0//EN
CALSCALE:GREGORIAN
METHOD:PUBLISH
X-ORIGINAL-URL:https://www.lifb.org
X-WR-CALDESC:évènements pour Ligue Île-de-France de Badminton
REFRESH-INTERVAL;VALUE=DURATION:PT1H
X-Robots-Tag:noindex
X-PUBLISHED-TTL:PT1H
BEGIN:VTIMEZONE
TZID:Europe/Paris
BEGIN:DAYLIGHT
TZOFFSETFROM:+0100
TZOFFSETTO:+0200
TZNAME:CEST
DTSTART:20220327T010000
END:DAYLIGHT
BEGIN:STANDARD
TZOFFSETFROM:+0200
TZOFFSETTO:+0100
TZNAME:CET
DTSTART:20221030T010000
END:STANDARD
END:VTIMEZONE
BEGIN:VEVENT
DTSTART;VALUE=DATE:20220214
DTEND;VALUE=DATE:20220216
DTSTAMP:20260425T143110
CREATED:20210706T140250Z
LAST-MODIFIED:20210706T140250Z
UID:8836-1644796800-1644969599@www.lifb.org
SUMMARY:DEJEPS 2021/2022
DESCRIPTION:
URL:https://www.lifb.org/evenement/dejeps-2021-2022-22/
CATEGORIES:Formations encadrants
END:VEVENT
BEGIN:VEVENT
DTSTART;VALUE=DATE:20220214
DTEND;VALUE=DATE:20220217
DTSTAMP:20260425T143110
CREATED:20210614T153529Z
LAST-MODIFIED:20210614T153844Z
UID:8445-1644796800-1645055999@www.lifb.org
SUMMARY:CQP Séquence 5
DESCRIPTION:
URL:https://www.lifb.org/evenement/cqp-sequence-5/
LOCATION:Fontenay-aux-Roses\, Fontenay-aux-Roses\, France
CATEGORIES:Formations encadrants
END:VEVENT
END:VCALENDAR