BEGIN:VCALENDAR
VERSION:2.0
PRODID:-//Ligue Île-de-France de Badminton - ECPv6.5.1.6//NONSGML v1.0//EN
CALSCALE:GREGORIAN
METHOD:PUBLISH
X-WR-CALNAME:Ligue Île-de-France de Badminton
X-ORIGINAL-URL:https://www.lifb.org
X-WR-CALDESC:évènements pour Ligue Île-de-France de Badminton
REFRESH-INTERVAL;VALUE=DURATION:PT1H
X-Robots-Tag:noindex
X-PUBLISHED-TTL:PT1H
BEGIN:VTIMEZONE
TZID:Europe/Paris
BEGIN:DAYLIGHT
TZOFFSETFROM:+0100
TZOFFSETTO:+0200
TZNAME:CEST
DTSTART:20220327T010000
END:DAYLIGHT
BEGIN:STANDARD
TZOFFSETFROM:+0200
TZOFFSETTO:+0100
TZNAME:CET
DTSTART:20221030T010000
END:STANDARD
END:VTIMEZONE
BEGIN:VEVENT
DTSTART;VALUE=DATE:20220219
DTEND;VALUE=DATE:20220221
DTSTAMP:20260425T142804
CREATED:20210930T152959Z
LAST-MODIFIED:20210930T152959Z
UID:9570-1645228800-1645401599@www.lifb.org
SUMMARY:Formation Arbitre Ligue Accrédité
DESCRIPTION:
URL:https://www.lifb.org/evenement/formation-arbitre-ligue-accredite-2/
LOCATION:Herblay\, Herblay
CATEGORIES:Formations OT
END:VEVENT
END:VCALENDAR