BEGIN:VCALENDAR
VERSION:2.0
PRODID:-//Ligue Île-de-France de Badminton - ECPv6.5.1.6//NONSGML v1.0//EN
CALSCALE:GREGORIAN
METHOD:PUBLISH
X-ORIGINAL-URL:https://www.lifb.org
X-WR-CALDESC:évènements pour Ligue Île-de-France de Badminton
REFRESH-INTERVAL;VALUE=DURATION:PT1H
X-Robots-Tag:noindex
X-PUBLISHED-TTL:PT1H
BEGIN:VTIMEZONE
TZID:Europe/Paris
BEGIN:DAYLIGHT
TZOFFSETFROM:+0100
TZOFFSETTO:+0200
TZNAME:CEST
DTSTART:20220327T010000
END:DAYLIGHT
BEGIN:STANDARD
TZOFFSETFROM:+0200
TZOFFSETTO:+0100
TZNAME:CET
DTSTART:20221030T010000
END:STANDARD
END:VTIMEZONE
BEGIN:VEVENT
DTSTART;VALUE=DATE:20220305
DTEND;VALUE=DATE:20220307
DTSTAMP:20260425T131410
CREATED:20210930T153707Z
LAST-MODIFIED:20220117T102307Z
UID:9575-1646438400-1646611199@www.lifb.org
SUMMARY:Formation GEO 92
DESCRIPTION:
URL:https://www.lifb.org/evenement/formation-geo-92/
LOCATION:Nanterre\, Nanterre
CATEGORIES:Formations OT
END:VEVENT
BEGIN:VEVENT
DTSTART;TZID=Europe/Paris:20220305T080000
DTEND;TZID=Europe/Paris:20220306T170000
DTSTAMP:20260425T131410
CREATED:20210906T141627Z
LAST-MODIFIED:20210906T141627Z
UID:9338-1646467200-1646586000@www.lifb.org
SUMMARY:ICN J8
DESCRIPTION:
URL:https://www.lifb.org/evenement/icn-j8/
CATEGORIES:Compétitions Ligue
END:VEVENT
END:VCALENDAR