BEGIN:VCALENDAR
VERSION:2.0
PRODID:-//Ligue Île-de-France de Badminton - ECPv6.5.1.6//NONSGML v1.0//EN
CALSCALE:GREGORIAN
METHOD:PUBLISH
X-ORIGINAL-URL:https://www.lifb.org
X-WR-CALDESC:évènements pour Ligue Île-de-France de Badminton
REFRESH-INTERVAL;VALUE=DURATION:PT1H
X-Robots-Tag:noindex
X-PUBLISHED-TTL:PT1H
BEGIN:VTIMEZONE
TZID:Europe/Paris
BEGIN:DAYLIGHT
TZOFFSETFROM:+0100
TZOFFSETTO:+0200
TZNAME:CEST
DTSTART:20220327T010000
END:DAYLIGHT
BEGIN:STANDARD
TZOFFSETFROM:+0200
TZOFFSETTO:+0100
TZNAME:CET
DTSTART:20221030T010000
END:STANDARD
END:VTIMEZONE
BEGIN:VEVENT
DTSTART;VALUE=DATE:20220311
DTEND;VALUE=DATE:20220313
DTSTAMP:20260425T131513
CREATED:20210614T153716Z
LAST-MODIFIED:20210614T153716Z
UID:8447-1646956800-1647129599@www.lifb.org
SUMMARY:CQP Séquence 6
DESCRIPTION:
URL:https://www.lifb.org/evenement/cqp-sequence-6/
LOCATION:Fontenay-aux-Roses\, Fontenay-aux-Roses\, France
CATEGORIES:Formations encadrants
END:VEVENT
END:VCALENDAR