BEGIN:VCALENDAR
VERSION:2.0
PRODID:-//Ligue Île-de-France de Badminton - ECPv6.5.1.6//NONSGML v1.0//EN
CALSCALE:GREGORIAN
METHOD:PUBLISH
X-WR-CALNAME:Ligue Île-de-France de Badminton
X-ORIGINAL-URL:https://www.lifb.org
X-WR-CALDESC:évènements pour Ligue Île-de-France de Badminton
REFRESH-INTERVAL;VALUE=DURATION:PT1H
X-Robots-Tag:noindex
X-PUBLISHED-TTL:PT1H
BEGIN:VTIMEZONE
TZID:Europe/Paris
BEGIN:DAYLIGHT
TZOFFSETFROM:+0100
TZOFFSETTO:+0200
TZNAME:CEST
DTSTART:20220327T010000
END:DAYLIGHT
BEGIN:STANDARD
TZOFFSETFROM:+0200
TZOFFSETTO:+0100
TZNAME:CET
DTSTART:20221030T010000
END:STANDARD
END:VTIMEZONE
BEGIN:VEVENT
DTSTART;VALUE=DATE:20220321
DTEND;VALUE=DATE:20220323
DTSTAMP:20260425T131207
CREATED:20210706T140443Z
LAST-MODIFIED:20210706T140443Z
UID:8844-1647820800-1647993599@www.lifb.org
SUMMARY:DEJEPS 2021/2022
DESCRIPTION:
URL:https://www.lifb.org/evenement/dejeps-2021-2022-26/
CATEGORIES:Formations encadrants
END:VEVENT
BEGIN:VEVENT
DTSTART;VALUE=DATE:20220321
DTEND;VALUE=DATE:20220322
DTSTAMP:20260425T131207
CREATED:20211115T140834Z
LAST-MODIFIED:20211115T140834Z
UID:9946-1647820800-1647907199@www.lifb.org
SUMMARY:EB 1 CD 93/95
DESCRIPTION:
URL:https://www.lifb.org/evenement/eb-1-cd-93-95-2-2022-03-21/
LOCATION:Aulnay sous Bois
CATEGORIES:Formations encadrants
END:VEVENT
END:VCALENDAR