BEGIN:VCALENDAR
VERSION:2.0
PRODID:-//Ligue Île-de-France de Badminton - ECPv6.5.1.6//NONSGML v1.0//EN
CALSCALE:GREGORIAN
METHOD:PUBLISH
X-ORIGINAL-URL:https://www.lifb.org
X-WR-CALDESC:évènements pour Ligue Île-de-France de Badminton
REFRESH-INTERVAL;VALUE=DURATION:PT1H
X-Robots-Tag:noindex
X-PUBLISHED-TTL:PT1H
BEGIN:VTIMEZONE
TZID:Europe/Paris
BEGIN:DAYLIGHT
TZOFFSETFROM:+0100
TZOFFSETTO:+0200
TZNAME:CEST
DTSTART:20230326T010000
END:DAYLIGHT
BEGIN:STANDARD
TZOFFSETFROM:+0200
TZOFFSETTO:+0100
TZNAME:CET
DTSTART:20231029T010000
END:STANDARD
END:VTIMEZONE
BEGIN:VEVENT
DTSTART;VALUE=DATE:20230211
DTEND;VALUE=DATE:20230212
DTSTAMP:20260424T215719
CREATED:20220810T080613Z
LAST-MODIFIED:20220810T080613Z
UID:11785-1676073600-1676159999@www.lifb.org
SUMMARY:Formation/Examen Juge de Ligne Accrédité 94
DESCRIPTION:
URL:https://www.lifb.org/evenement/formation-examen-juge-de-ligne-accredite-94/
LOCATION:Saint-Maur-des-Fossés\, Saint-Maur-des-Fossés\, France
CATEGORIES:Formations OT
END:VEVENT
BEGIN:VEVENT
DTSTART;VALUE=DATE:20230211
DTEND;VALUE=DATE:20230213
DTSTAMP:20260424T215719
CREATED:20220907T101201Z
LAST-MODIFIED:20221025T084354Z
UID:11929-1676073600-1676246399@www.lifb.org
SUMMARY:Formation AB1 - CD 91
DESCRIPTION:
URL:https://www.lifb.org/evenement/formation-ab1-cd-91-2023-02-11/
LOCATION:Mennecy\, Mennecy\, France
CATEGORIES:Formations encadrants
END:VEVENT
BEGIN:VEVENT
DTSTART;TZID=Europe/Paris:20230211T080000
DTEND;TZID=Europe/Paris:20230212T170000
DTSTAMP:20260424T215719
CREATED:20220628T084615Z
LAST-MODIFIED:20220628T084615Z
UID:11532-1676102400-1676221200@www.lifb.org
SUMMARY:CIJ n°3
DESCRIPTION:
URL:https://www.lifb.org/evenement/cij-n3/
LOCATION:A définir
CATEGORIES:Compétitions Ligue
END:VEVENT
BEGIN:VEVENT
DTSTART;TZID=Europe/Paris:20230211T080000
DTEND;TZID=Europe/Paris:20230212T170000
DTSTAMP:20260424T215719
CREATED:20220628T090235Z
LAST-MODIFIED:20220628T090235Z
UID:11554-1676102400-1676221200@www.lifb.org
SUMMARY:J4 Interclubs régionaux
DESCRIPTION:
URL:https://www.lifb.org/evenement/j4-interclubs-regionaux/
CATEGORIES:Compétitions Ligue
END:VEVENT
END:VCALENDAR