BEGIN:VCALENDAR
VERSION:2.0
PRODID:-//Ligue Île-de-France de Badminton - ECPv6.5.1.6//NONSGML v1.0//EN
CALSCALE:GREGORIAN
METHOD:PUBLISH
X-ORIGINAL-URL:https://www.lifb.org
X-WR-CALDESC:évènements pour Ligue Île-de-France de Badminton
REFRESH-INTERVAL;VALUE=DURATION:PT1H
X-Robots-Tag:noindex
X-PUBLISHED-TTL:PT1H
BEGIN:VTIMEZONE
TZID:Europe/Paris
BEGIN:DAYLIGHT
TZOFFSETFROM:+0100
TZOFFSETTO:+0200
TZNAME:CEST
DTSTART:20230326T010000
END:DAYLIGHT
BEGIN:STANDARD
TZOFFSETFROM:+0200
TZOFFSETTO:+0100
TZNAME:CET
DTSTART:20231029T010000
END:STANDARD
END:VTIMEZONE
BEGIN:VEVENT
DTSTART;VALUE=DATE:20230311
DTEND;VALUE=DATE:20230313
DTSTAMP:20260424T203342
CREATED:20220712T142059Z
LAST-MODIFIED:20221024T091704Z
UID:11695-1678492800-1678665599@www.lifb.org
SUMMARY:Formation Arbitre de Ligue Accrédité 75
DESCRIPTION:
URL:https://www.lifb.org/evenement/formation-arbitre-de-ligue-accredite-75/
LOCATION:Paris 17e\, Paris\, 75017
CATEGORIES:Formations OT
END:VEVENT
END:VCALENDAR