BEGIN:VCALENDAR
VERSION:2.0
PRODID:-//Ligue Île-de-France de Badminton - ECPv6.5.1.6//NONSGML v1.0//EN
CALSCALE:GREGORIAN
METHOD:PUBLISH
X-ORIGINAL-URL:https://www.lifb.org
X-WR-CALDESC:évènements pour Ligue Île-de-France de Badminton
REFRESH-INTERVAL;VALUE=DURATION:PT1H
X-Robots-Tag:noindex
X-PUBLISHED-TTL:PT1H
BEGIN:VTIMEZONE
TZID:Europe/Paris
BEGIN:DAYLIGHT
TZOFFSETFROM:+0100
TZOFFSETTO:+0200
TZNAME:CEST
DTSTART:20230326T010000
END:DAYLIGHT
BEGIN:STANDARD
TZOFFSETFROM:+0200
TZOFFSETTO:+0100
TZNAME:CET
DTSTART:20231029T010000
END:STANDARD
END:VTIMEZONE
BEGIN:VEVENT
DTSTART;VALUE=DATE:20230318
DTEND;VALUE=DATE:20230320
DTSTAMP:20260424T203341
CREATED:20221024T094752Z
LAST-MODIFIED:20221025T083722Z
UID:12507-1679097600-1679270399@www.lifb.org
SUMMARY:Formation AB1 - CD 78
DESCRIPTION:
URL:https://www.lifb.org/evenement/formation-ab1-cd-78/
LOCATION:A définir
CATEGORIES:Formations encadrants
END:VEVENT
BEGIN:VEVENT
DTSTART;TZID=Europe/Paris:20230318T080000
DTEND;TZID=Europe/Paris:20230319T170000
DTSTAMP:20260424T203341
CREATED:20220628T090308Z
LAST-MODIFIED:20220628T090308Z
UID:11556-1679126400-1679245200@www.lifb.org
SUMMARY:J5 Interclubs régionaux
DESCRIPTION:
URL:https://www.lifb.org/evenement/j5-interclubs-regionaux/
CATEGORIES:Compétitions Ligue
END:VEVENT
END:VCALENDAR