BEGIN:VCALENDAR
VERSION:2.0
PRODID:-//Ligue Île-de-France de Badminton - ECPv6.5.1.6//NONSGML v1.0//EN
CALSCALE:GREGORIAN
METHOD:PUBLISH
X-ORIGINAL-URL:https://www.lifb.org
X-WR-CALDESC:évènements pour Ligue Île-de-France de Badminton
REFRESH-INTERVAL;VALUE=DURATION:PT1H
X-Robots-Tag:noindex
X-PUBLISHED-TTL:PT1H
BEGIN:VTIMEZONE
TZID:Europe/Paris
BEGIN:DAYLIGHT
TZOFFSETFROM:+0100
TZOFFSETTO:+0200
TZNAME:CEST
DTSTART:20230326T010000
END:DAYLIGHT
BEGIN:STANDARD
TZOFFSETFROM:+0200
TZOFFSETTO:+0100
TZNAME:CET
DTSTART:20231029T010000
END:STANDARD
END:VTIMEZONE
BEGIN:VEVENT
DTSTART;VALUE=DATE:20230403
DTEND;VALUE=DATE:20230409
DTSTAMP:20260424T191635
CREATED:20230306T112255Z
LAST-MODIFIED:20230306T112255Z
UID:13658-1680480000-1680998399@www.lifb.org
SUMMARY:Semaine Olympique et Paralympique
DESCRIPTION:
URL:https://www.lifb.org/evenement/semaine-olympique-et-paralympique/
CATEGORIES:Développement
END:VEVENT
BEGIN:VEVENT
DTSTART;VALUE=DATE:20230403
DTEND;VALUE=DATE:20230404
DTSTAMP:20260424T191635
CREATED:20230306T112447Z
LAST-MODIFIED:20230306T112612Z
UID:13661-1680480000-1680566399@www.lifb.org
SUMMARY:Journée événement dans le cadre de la Semaine  Olympique et Paralympique
DESCRIPTION:
URL:https://www.lifb.org/evenement/journee-evenement-dans-le-cadre-de-la-semaine-olympique-et-paralympique/
LOCATION:Zénith de Paris\, Zénith\, Paris
CATEGORIES:Développement
END:VEVENT
END:VCALENDAR