BEGIN:VCALENDAR
VERSION:2.0
PRODID:-//Ligue Île-de-France de Badminton - ECPv6.5.1.6//NONSGML v1.0//EN
CALSCALE:GREGORIAN
METHOD:PUBLISH
X-WR-CALNAME:Ligue Île-de-France de Badminton
X-ORIGINAL-URL:https://www.lifb.org
X-WR-CALDESC:évènements pour Ligue Île-de-France de Badminton
REFRESH-INTERVAL;VALUE=DURATION:PT1H
X-Robots-Tag:noindex
X-PUBLISHED-TTL:PT1H
BEGIN:VTIMEZONE
TZID:Europe/Paris
BEGIN:DAYLIGHT
TZOFFSETFROM:+0100
TZOFFSETTO:+0200
TZNAME:CEST
DTSTART:20230326T010000
END:DAYLIGHT
BEGIN:STANDARD
TZOFFSETFROM:+0200
TZOFFSETTO:+0100
TZNAME:CET
DTSTART:20231029T010000
END:STANDARD
END:VTIMEZONE
BEGIN:VEVENT
DTSTART;VALUE=DATE:20230420
DTEND;VALUE=DATE:20230423
DTSTAMP:20260424T191337
CREATED:20230306T110654Z
LAST-MODIFIED:20230306T110654Z
UID:13624-1681948800-1682207999@www.lifb.org
SUMMARY:YONEX France U17 Open 2023
DESCRIPTION:
URL:https://www.lifb.org/evenement/yonex-france-u17-open-2023/
LOCATION:Aire-sur-la-Lys (62)\, Aire-sur-la-Lys
CATEGORIES:Compétition Internationales
END:VEVENT
BEGIN:VEVENT
DTSTART;VALUE=DATE:20230422
DTEND;VALUE=DATE:20230424
DTSTAMP:20260424T191337
CREATED:20221024T093118Z
LAST-MODIFIED:20230911T135107Z
UID:12498-1682121600-1682294399@www.lifb.org
SUMMARY:Formation GEO 94
DESCRIPTION:
URL:https://www.lifb.org/evenement/formation-geo-94-3/
LOCATION:Vincennes\, Vincennes
CATEGORIES:Formations GEO
END:VEVENT
BEGIN:VEVENT
DTSTART;VALUE=DATE:20230422
DTEND;VALUE=DATE:20230424
DTSTAMP:20260424T191337
CREATED:20221024T094752Z
LAST-MODIFIED:20221025T083722Z
UID:12509-1682121600-1682294399@www.lifb.org
SUMMARY:Formation AB1 - CD 78
DESCRIPTION:
URL:https://www.lifb.org/evenement/formation-ab1-cd-78-2023-04-22/
LOCATION:A définir
CATEGORIES:Formations encadrants
END:VEVENT
END:VCALENDAR