BEGIN:VCALENDAR
VERSION:2.0
PRODID:-//Ligue Île-de-France de Badminton - ECPv6.5.1.6//NONSGML v1.0//EN
CALSCALE:GREGORIAN
METHOD:PUBLISH
X-ORIGINAL-URL:https://www.lifb.org
X-WR-CALDESC:évènements pour Ligue Île-de-France de Badminton
REFRESH-INTERVAL;VALUE=DURATION:PT1H
X-Robots-Tag:noindex
X-PUBLISHED-TTL:PT1H
BEGIN:VTIMEZONE
TZID:Europe/Paris
BEGIN:DAYLIGHT
TZOFFSETFROM:+0100
TZOFFSETTO:+0200
TZNAME:CEST
DTSTART:20230326T010000
END:DAYLIGHT
BEGIN:STANDARD
TZOFFSETFROM:+0200
TZOFFSETTO:+0100
TZNAME:CET
DTSTART:20231029T010000
END:STANDARD
END:VTIMEZONE
BEGIN:VEVENT
DTSTART;VALUE=DATE:20230509
DTEND;VALUE=DATE:20230515
DTSTAMP:20260424T175706
CREATED:20230306T111029Z
LAST-MODIFIED:20230306T111029Z
UID:13630-1683590400-1684108799@www.lifb.org
SUMMARY:Thailand Para Badminton International 2023
DESCRIPTION:
URL:https://www.lifb.org/evenement/thailand-para-badminton-international-2023/
LOCATION:Pattaya (Thaïlande)\, Pattaya\, Thaïlande
CATEGORIES:Compétition Internationales
END:VEVENT
BEGIN:VEVENT
DTSTART;VALUE=DATE:20230512
DTEND;VALUE=DATE:20230515
DTSTAMP:20260424T175706
CREATED:20230306T111109Z
LAST-MODIFIED:20230306T111109Z
UID:13633-1683849600-1684108799@www.lifb.org
SUMMARY:YONEX 3 Borders U19 2023
DESCRIPTION:
URL:https://www.lifb.org/evenement/yonex-3-borders-u19-2023/
LOCATION:Saint-Louis (Alsace)\, Saint-Louis\, France
CATEGORIES:Compétition Internationales
END:VEVENT
BEGIN:VEVENT
DTSTART;VALUE=DATE:20230513
DTEND;VALUE=DATE:20230515
DTSTAMP:20260424T175706
CREATED:20220712T143220Z
LAST-MODIFIED:20230306T105720Z
UID:11711-1683936000-1684108799@www.lifb.org
SUMMARY:Examen Arbitre de Ligue Certifié 94
DESCRIPTION:
URL:https://www.lifb.org/evenement/examen-arbitre-de-ligue-certifie/
LOCATION:Saint-Maur-des-Fossés\, Saint-Maur-des-Fossés\, France
CATEGORIES:Formations OT
END:VEVENT
BEGIN:VEVENT
DTSTART;TZID=Europe/Paris:20230513T080000
DTEND;TZID=Europe/Paris:20230514T170000
DTSTAMP:20260424T175706
CREATED:20220628T084846Z
LAST-MODIFIED:20220628T084846Z
UID:11540-1683964800-1684083600@www.lifb.org
SUMMARY:Championnat régional séniors
DESCRIPTION:
URL:https://www.lifb.org/evenement/championnat-regional-seniors-2/
LOCATION:A définir
CATEGORIES:Compétitions Ligue
END:VEVENT
END:VCALENDAR