BEGIN:VCALENDAR
VERSION:2.0
PRODID:-//Ligue Île-de-France de Badminton - ECPv6.5.1.6//NONSGML v1.0//EN
CALSCALE:GREGORIAN
METHOD:PUBLISH
X-ORIGINAL-URL:https://www.lifb.org
X-WR-CALDESC:évènements pour Ligue Île-de-France de Badminton
REFRESH-INTERVAL;VALUE=DURATION:PT1H
X-Robots-Tag:noindex
X-PUBLISHED-TTL:PT1H
BEGIN:VTIMEZONE
TZID:Europe/Paris
BEGIN:DAYLIGHT
TZOFFSETFROM:+0100
TZOFFSETTO:+0200
TZNAME:CEST
DTSTART:20230326T010000
END:DAYLIGHT
BEGIN:STANDARD
TZOFFSETFROM:+0200
TZOFFSETTO:+0100
TZNAME:CET
DTSTART:20231029T010000
END:STANDARD
END:VTIMEZONE
BEGIN:VEVENT
DTSTART;VALUE=DATE:20230608
DTEND;VALUE=DATE:20230612
DTSTAMP:20260424T163351
CREATED:20230306T111615Z
LAST-MODIFIED:20230306T111615Z
UID:13648-1686182400-1686527999@www.lifb.org
SUMMARY:BABOLAT German U17 Open 2023
DESCRIPTION:
URL:https://www.lifb.org/evenement/babolat-german-u17-open-2023/
LOCATION:Bergisch Gladbach (Allemagne)\, Bergisch Gladbach\, Allemagne
CATEGORIES:Compétition Internationales
END:VEVENT
BEGIN:VEVENT
DTSTART;VALUE=DATE:20230610
DTEND;VALUE=DATE:20230612
DTSTAMP:20260424T163351
CREATED:20230306T105348Z
LAST-MODIFIED:20230306T105848Z
UID:13601-1686355200-1686527999@www.lifb.org
SUMMARY:Examen Arbitre de Ligue Accrédité 75
DESCRIPTION:
URL:https://www.lifb.org/evenement/examen-arbitre-de-ligue-accredite-75/
LOCATION:Paris 17e\, Paris\, 75017
CATEGORIES:Formations OT
END:VEVENT
END:VCALENDAR