BEGIN:VCALENDAR
VERSION:2.0
PRODID:-//Ligue Île-de-France de Badminton - ECPv6.5.1.6//NONSGML v1.0//EN
CALSCALE:GREGORIAN
METHOD:PUBLISH
X-ORIGINAL-URL:https://www.lifb.org
X-WR-CALDESC:évènements pour Ligue Île-de-France de Badminton
REFRESH-INTERVAL;VALUE=DURATION:PT1H
X-Robots-Tag:noindex
X-PUBLISHED-TTL:PT1H
BEGIN:VTIMEZONE
TZID:Europe/Paris
BEGIN:DAYLIGHT
TZOFFSETFROM:+0100
TZOFFSETTO:+0200
TZNAME:CEST
DTSTART:20230326T010000
END:DAYLIGHT
BEGIN:STANDARD
TZOFFSETFROM:+0200
TZOFFSETTO:+0100
TZNAME:CET
DTSTART:20231029T010000
END:STANDARD
END:VTIMEZONE
BEGIN:VEVENT
DTSTART;VALUE=DATE:20230902
DTEND;VALUE=DATE:20230904
DTSTAMP:20260424T123457
CREATED:20230824T141000Z
LAST-MODIFIED:20230911T133710Z
UID:15402-1693612800-1693785599@www.lifb.org
SUMMARY:MODEF 95
DESCRIPTION:
URL:https://www.lifb.org/evenement/modef-95/
LOCATION:Ermont
CATEGORIES:Formations encadrants
END:VEVENT
BEGIN:VEVENT
DTSTART;VALUE=DATE:20230903
DTEND;VALUE=DATE:20230904
DTSTAMP:20260424T123457
CREATED:20230817T071506Z
LAST-MODIFIED:20230817T071914Z
UID:15327-1693699200-1693785599@www.lifb.org
SUMMARY:Bad'Tour Forum des Assos USB Badminton
DESCRIPTION:
URL:https://www.lifb.org/evenement/forum-des-assos-usb-badminton/
LOCATION:Bois Le Roi\, Bois Le Roi\, 77590\, France
CATEGORIES:Développement
END:VEVENT
END:VCALENDAR