BEGIN:VCALENDAR
VERSION:2.0
PRODID:-//Ligue Île-de-France de Badminton - ECPv6.5.1.6//NONSGML v1.0//EN
CALSCALE:GREGORIAN
METHOD:PUBLISH
X-WR-CALNAME:Ligue Île-de-France de Badminton
X-ORIGINAL-URL:https://www.lifb.org
X-WR-CALDESC:évènements pour Ligue Île-de-France de Badminton
REFRESH-INTERVAL;VALUE=DURATION:PT1H
X-Robots-Tag:noindex
X-PUBLISHED-TTL:PT1H
BEGIN:VTIMEZONE
TZID:Europe/Paris
BEGIN:DAYLIGHT
TZOFFSETFROM:+0100
TZOFFSETTO:+0200
TZNAME:CEST
DTSTART:20230326T010000
END:DAYLIGHT
BEGIN:STANDARD
TZOFFSETFROM:+0200
TZOFFSETTO:+0100
TZNAME:CET
DTSTART:20231029T010000
END:STANDARD
END:VTIMEZONE
BEGIN:VEVENT
DTSTART;VALUE=DATE:20230925
DTEND;VALUE=DATE:20230930
DTSTAMP:20260424T111029
CREATED:20230912T081301Z
LAST-MODIFIED:20230912T081301Z
UID:15651-1695600000-1696031999@www.lifb.org
SUMMARY:Semaine du Sport à l'Hôpital
DESCRIPTION:
URL:https://www.lifb.org/evenement/semaine-du-sport-a-lhopital/
CATEGORIES:Développement
END:VEVENT
BEGIN:VEVENT
DTSTART;VALUE=DATE:20230929
DTEND;VALUE=DATE:20230930
DTSTAMP:20260424T111029
CREATED:20230912T081011Z
LAST-MODIFIED:20230912T082529Z
UID:15646-1695945600-1696031999@www.lifb.org
SUMMARY:Intervention à l'Institut Curie - Paris (75)
DESCRIPTION:
URL:https://www.lifb.org/evenement/intervention-a-linstitut-curie-75/
LOCATION:Paris\, PARIS\, 75000
CATEGORIES:Développement
END:VEVENT
END:VCALENDAR