BEGIN:VCALENDAR
VERSION:2.0
PRODID:-//Ligue Île-de-France de Badminton - ECPv6.5.1.6//NONSGML v1.0//EN
CALSCALE:GREGORIAN
METHOD:PUBLISH
X-WR-CALNAME:Ligue Île-de-France de Badminton
X-ORIGINAL-URL:https://www.lifb.org
X-WR-CALDESC:évènements pour Ligue Île-de-France de Badminton
REFRESH-INTERVAL;VALUE=DURATION:PT1H
X-Robots-Tag:noindex
X-PUBLISHED-TTL:PT1H
BEGIN:VTIMEZONE
TZID:Europe/Paris
BEGIN:DAYLIGHT
TZOFFSETFROM:+0100
TZOFFSETTO:+0200
TZNAME:CEST
DTSTART:20230326T010000
END:DAYLIGHT
BEGIN:STANDARD
TZOFFSETFROM:+0200
TZOFFSETTO:+0100
TZNAME:CET
DTSTART:20231029T010000
END:STANDARD
END:VTIMEZONE
BEGIN:VEVENT
DTSTART;VALUE=DATE:20231024
DTEND;VALUE=DATE:20231030
DTSTAMP:20260424T110940
CREATED:20230911T143342Z
LAST-MODIFIED:20230911T143342Z
UID:15620-1698105600-1698623999@www.lifb.org
SUMMARY:YONEX Internationaux de France de Badminton
DESCRIPTION:
URL:https://www.lifb.org/evenement/yonex-internationaux-de-france-de-badminton/
LOCATION:Cesson-Sévigné\, Cesson-Sévigné\, 35510\, France
CATEGORIES:Compétition Internationales
END:VEVENT
BEGIN:VEVENT
DTSTART;VALUE=DATE:20231027
DTEND;VALUE=DATE:20231028
DTSTAMP:20260424T110940
CREATED:20230912T080927Z
LAST-MODIFIED:20230912T080927Z
UID:15644-1698364800-1698451199@www.lifb.org
SUMMARY:Du Stade vers l'Emploi - Saint-Maur (94)
DESCRIPTION:
URL:https://www.lifb.org/evenement/du-stade-vers-lemploi-saint-maur-94/
LOCATION:Saint-Maur-des-Fossés\, Saint-Maur-des-Fossés\, France
CATEGORIES:Développement
END:VEVENT
END:VCALENDAR