BEGIN:VCALENDAR
VERSION:2.0
PRODID:-//Ligue Île-de-France de Badminton - ECPv6.5.1.6//NONSGML v1.0//EN
CALSCALE:GREGORIAN
METHOD:PUBLISH
X-ORIGINAL-URL:https://www.lifb.org
X-WR-CALDESC:évènements pour Ligue Île-de-France de Badminton
REFRESH-INTERVAL;VALUE=DURATION:PT1H
X-Robots-Tag:noindex
X-PUBLISHED-TTL:PT1H
BEGIN:VTIMEZONE
TZID:Europe/Paris
BEGIN:DAYLIGHT
TZOFFSETFROM:+0100
TZOFFSETTO:+0200
TZNAME:CEST
DTSTART:20230326T010000
END:DAYLIGHT
BEGIN:STANDARD
TZOFFSETFROM:+0200
TZOFFSETTO:+0100
TZNAME:CET
DTSTART:20231029T010000
END:STANDARD
END:VTIMEZONE
BEGIN:VEVENT
DTSTART;VALUE=DATE:20231111
DTEND;VALUE=DATE:20231113
DTSTAMP:20260424T095252
CREATED:20230915T120559Z
LAST-MODIFIED:20230915T124008Z
UID:15738-1699660800-1699833599@www.lifb.org
SUMMARY:Examen Arbitre de Ligue Accrédité - 75
DESCRIPTION:
URL:https://www.lifb.org/evenement/examen-arbitre-de-ligue-accredite-75-2/
LOCATION:Paris 17e\, Paris\, 75017
CATEGORIES:Formations OT
END:VEVENT
BEGIN:VEVENT
DTSTART;VALUE=DATE:20231111
DTEND;VALUE=DATE:20231113
DTSTAMP:20260424T095252
CREATED:20231016T095403Z
LAST-MODIFIED:20231016T095403Z
UID:16229-1699660800-1699833599@www.lifb.org
SUMMARY:Formation MODEF - 78
DESCRIPTION:
URL:https://www.lifb.org/evenement/formation-modef-78/
LOCATION:A définir
CATEGORIES:Formations encadrants
END:VEVENT
END:VCALENDAR