BEGIN:VCALENDAR
VERSION:2.0
PRODID:-//Ligue Île-de-France de Badminton - ECPv6.5.1.6//NONSGML v1.0//EN
CALSCALE:GREGORIAN
METHOD:PUBLISH
X-ORIGINAL-URL:https://www.lifb.org
X-WR-CALDESC:évènements pour Ligue Île-de-France de Badminton
REFRESH-INTERVAL;VALUE=DURATION:PT1H
X-Robots-Tag:noindex
X-PUBLISHED-TTL:PT1H
BEGIN:VTIMEZONE
TZID:Europe/Paris
BEGIN:DAYLIGHT
TZOFFSETFROM:+0100
TZOFFSETTO:+0200
TZNAME:CEST
DTSTART:20230326T010000
END:DAYLIGHT
BEGIN:STANDARD
TZOFFSETFROM:+0200
TZOFFSETTO:+0100
TZNAME:CET
DTSTART:20231029T010000
END:STANDARD
END:VTIMEZONE
BEGIN:VEVENT
DTSTART;VALUE=DATE:20231201
DTEND;VALUE=DATE:20231204
DTSTAMP:20260424T082827
CREATED:20230913T150027Z
LAST-MODIFIED:20230913T150054Z
UID:15690-1701388800-1701647999@www.lifb.org
SUMMARY:Circuit Élite Jeunes n°2
DESCRIPTION:
URL:https://www.lifb.org/evenement/crcuit-elite-jeunes-n2/
CATEGORIES:Compétition Internationales
END:VEVENT
BEGIN:VEVENT
DTSTART;VALUE=DATE:20231202
DTEND;VALUE=DATE:20231204
DTSTAMP:20260424T082827
CREATED:20230629T130020Z
LAST-MODIFIED:20230913T145311Z
UID:14927-1701475200-1701647999@www.lifb.org
SUMMARY:Tournoi Labellisé Jeunes n°2
DESCRIPTION:
URL:https://www.lifb.org/evenement/tournoi-labellise-jeunes-n2-2/
LOCATION:Créteil
CATEGORIES:Compétitions Ligue
END:VEVENT
BEGIN:VEVENT
DTSTART;VALUE=DATE:20231202
DTEND;VALUE=DATE:20231204
DTSTAMP:20260424T082827
CREATED:20230629T133445Z
LAST-MODIFIED:20230629T133445Z
UID:14969-1701475200-1701647999@www.lifb.org
SUMMARY:ICR - Journée Rattrapage n°1
DESCRIPTION:
URL:https://www.lifb.org/evenement/icr-journee-rattrapage-n1/
CATEGORIES:Compétitions Ligue
END:VEVENT
BEGIN:VEVENT
DTSTART;VALUE=DATE:20231202
DTEND;VALUE=DATE:20231204
DTSTAMP:20260424T082827
CREATED:20230824T140829Z
LAST-MODIFIED:20230915T124150Z
UID:15400-1701475200-1701647999@www.lifb.org
SUMMARY:Formation GEO 1 - 78
DESCRIPTION:
URL:https://www.lifb.org/evenement/formation-geo-78-3/
LOCATION:Clayes-sous-Bois\, Clayes-sous-Bois
CATEGORIES:Formations GEO
END:VEVENT
BEGIN:VEVENT
DTSTART;VALUE=DATE:20231202
DTEND;VALUE=DATE:20231204
DTSTAMP:20260424T082827
CREATED:20230915T121735Z
LAST-MODIFIED:20230915T124436Z
UID:15747-1701475200-1701647999@www.lifb.org
SUMMARY:Formation Arbitre de Ligue Accrédité - 95
DESCRIPTION:
URL:https://www.lifb.org/evenement/formation-arbitre-de-ligue-accredite-95-2/
LOCATION:Cergy\, Cergy\, 95000\, France
CATEGORIES:Formations OT
END:VEVENT
END:VCALENDAR