BEGIN:VCALENDAR
VERSION:2.0
PRODID:-//Ligue Île-de-France de Badminton - ECPv6.5.1.6//NONSGML v1.0//EN
CALSCALE:GREGORIAN
METHOD:PUBLISH
X-WR-CALNAME:Ligue Île-de-France de Badminton
X-ORIGINAL-URL:https://www.lifb.org
X-WR-CALDESC:évènements pour Ligue Île-de-France de Badminton
REFRESH-INTERVAL;VALUE=DURATION:PT1H
X-Robots-Tag:noindex
X-PUBLISHED-TTL:PT1H
BEGIN:VTIMEZONE
TZID:Europe/Paris
BEGIN:DAYLIGHT
TZOFFSETFROM:+0100
TZOFFSETTO:+0200
TZNAME:CEST
DTSTART:20240331T010000
END:DAYLIGHT
BEGIN:STANDARD
TZOFFSETFROM:+0200
TZOFFSETTO:+0100
TZNAME:CET
DTSTART:20241027T010000
END:STANDARD
END:VTIMEZONE
BEGIN:VEVENT
DTSTART;VALUE=DATE:20240112
DTEND;VALUE=DATE:20240115
DTSTAMP:20260424T065632
CREATED:20230913T150135Z
LAST-MODIFIED:20230913T150135Z
UID:15693-1705017600-1705276799@www.lifb.org
SUMMARY:Circuit Élite Jeunes n°3
DESCRIPTION:
URL:https://www.lifb.org/evenement/circuit-elite-jeunes-n3/
CATEGORIES:Compétition Internationales
END:VEVENT
BEGIN:VEVENT
DTSTART;VALUE=DATE:20240113
DTEND;VALUE=DATE:20240115
DTSTAMP:20260424T065632
CREATED:20230629T131735Z
LAST-MODIFIED:20230719T135638Z
UID:14935-1705104000-1705276799@www.lifb.org
SUMMARY:Tournoi Labellisé Jeunes n°3
DESCRIPTION:
URL:https://www.lifb.org/evenement/tournoi-labellise-jeunes-n3-2/
LOCATION:Gif sur Yvette\, Gif sur Yvette
CATEGORIES:Compétitions Ligue
END:VEVENT
BEGIN:VEVENT
DTSTART;VALUE=DATE:20240113
DTEND;VALUE=DATE:20240115
DTSTAMP:20260424T065632
CREATED:20231003T150951Z
LAST-MODIFIED:20231003T150951Z
UID:16123-1705104000-1705276799@www.lifb.org
SUMMARY:Formation Arbitre de Ligue Accrédité - 91
DESCRIPTION:
URL:https://www.lifb.org/evenement/formation-arbitre-de-ligue-accredite-91-2/
LOCATION:Gif sur Yvette\, Gif sur Yvette
CATEGORIES:Formations OT
END:VEVENT
BEGIN:VEVENT
DTSTART;VALUE=DATE:20240113
DTEND;VALUE=DATE:20240115
DTSTAMP:20260424T065632
CREATED:20231003T151152Z
LAST-MODIFIED:20231003T151152Z
UID:16125-1705104000-1705276799@www.lifb.org
SUMMARY:Examen Arbitre de Ligue Accrédité - 95
DESCRIPTION:
URL:https://www.lifb.org/evenement/examen-arbitre-de-ligue-accredite-95-2/
LOCATION:Eragny\, Eragny
CATEGORIES:Formations OT
END:VEVENT
BEGIN:VEVENT
DTSTART;VALUE=DATE:20240113
DTEND;VALUE=DATE:20240115
DTSTAMP:20260424T065632
CREATED:20231121T101114Z
LAST-MODIFIED:20231121T101114Z
UID:16957-1705104000-1705276799@www.lifb.org
SUMMARY:Formation GEO 1
DESCRIPTION:
URL:https://www.lifb.org/evenement/formation-geo-1/
LOCATION:Chaville\, CHAVILLE
CATEGORIES:Formations GEO
END:VEVENT
END:VCALENDAR