BEGIN:VCALENDAR
VERSION:2.0
PRODID:-//Ligue Île-de-France de Badminton - ECPv6.5.1.6//NONSGML v1.0//EN
CALSCALE:GREGORIAN
METHOD:PUBLISH
X-WR-CALNAME:Ligue Île-de-France de Badminton
X-ORIGINAL-URL:https://www.lifb.org
X-WR-CALDESC:évènements pour Ligue Île-de-France de Badminton
REFRESH-INTERVAL;VALUE=DURATION:PT1H
X-Robots-Tag:noindex
X-PUBLISHED-TTL:PT1H
BEGIN:VTIMEZONE
TZID:Europe/Paris
BEGIN:DAYLIGHT
TZOFFSETFROM:+0100
TZOFFSETTO:+0200
TZNAME:CEST
DTSTART:20240331T010000
END:DAYLIGHT
BEGIN:STANDARD
TZOFFSETFROM:+0200
TZOFFSETTO:+0100
TZNAME:CET
DTSTART:20241027T010000
END:STANDARD
END:VTIMEZONE
BEGIN:VEVENT
DTSTART;VALUE=DATE:20240208
DTEND;VALUE=DATE:20240212
DTSTAMP:20260424T053907
CREATED:20240205T103556Z
LAST-MODIFIED:20240205T103556Z
UID:17754-1707350400-1707695999@www.lifb.org
SUMMARY:Hungarian Junior Championships 2024
DESCRIPTION:
URL:https://www.lifb.org/evenement/hungarian-junior-championships-2024/
LOCATION:Pécs (Hongrie)\, Pécs\, Hongrie
CATEGORIES:Compétition Internationales
END:VEVENT
BEGIN:VEVENT
DTSTART;VALUE=DATE:20240210
DTEND;VALUE=DATE:20240212
DTSTAMP:20260424T053907
CREATED:20240130T090320Z
LAST-MODIFIED:20240130T091045Z
UID:17694-1707523200-1707695999@www.lifb.org
SUMMARY:Formation Entraîneur Bénévole 1 - 94
DESCRIPTION:
URL:https://www.lifb.org/evenement/entraineur-benevole-niveau-1/
LOCATION:Thiais\, Thiais
CATEGORIES:Formations encadrants
END:VEVENT
BEGIN:VEVENT
DTSTART;VALUE=DATE:20240210
DTEND;VALUE=DATE:20240212
DTSTAMP:20260424T053907
CREATED:20240130T091527Z
LAST-MODIFIED:20240130T091527Z
UID:17710-1707523200-1707695999@www.lifb.org
SUMMARY:Formation Arbitre de Ligue Accrédité
DESCRIPTION:
URL:https://www.lifb.org/evenement/formation-arbitre-de-ligue-accredite-2/
LOCATION:Rosny-sous-Bois\, Rosny-sous-Bois\, 93110
CATEGORIES:Formations OT
END:VEVENT
BEGIN:VEVENT
DTSTART;VALUE=DATE:20240211
DTEND;VALUE=DATE:20240212
DTSTAMP:20260424T053907
CREATED:20240130T090444Z
LAST-MODIFIED:20240130T091125Z
UID:17697-1707609600-1707695999@www.lifb.org
SUMMARY:Formation GEO 2 - 75
DESCRIPTION:
URL:https://www.lifb.org/evenement/formation-geo-2-3/
LOCATION:Paris 17e\, Paris\, 75017
CATEGORIES:Formations GEO
END:VEVENT
END:VCALENDAR