BEGIN:VCALENDAR
VERSION:2.0
PRODID:-//Ligue Île-de-France de Badminton - ECPv6.5.1.6//NONSGML v1.0//EN
CALSCALE:GREGORIAN
METHOD:PUBLISH
X-WR-CALNAME:Ligue Île-de-France de Badminton
X-ORIGINAL-URL:https://www.lifb.org
X-WR-CALDESC:évènements pour Ligue Île-de-France de Badminton
REFRESH-INTERVAL;VALUE=DURATION:PT1H
X-Robots-Tag:noindex
X-PUBLISHED-TTL:PT1H
BEGIN:VTIMEZONE
TZID:Europe/Paris
BEGIN:DAYLIGHT
TZOFFSETFROM:+0100
TZOFFSETTO:+0200
TZNAME:CEST
DTSTART:20240331T010000
END:DAYLIGHT
BEGIN:STANDARD
TZOFFSETFROM:+0200
TZOFFSETTO:+0100
TZNAME:CET
DTSTART:20241027T010000
END:STANDARD
END:VTIMEZONE
BEGIN:VEVENT
DTSTART;VALUE=DATE:20240214
DTEND;VALUE=DATE:20240215
DTSTAMP:20260424T053843
CREATED:20240205T104644Z
LAST-MODIFIED:20240205T105019Z
UID:17776-1707868800-1707955199@www.lifb.org
SUMMARY:Sport en Eveil par le CROS IDF
DESCRIPTION:
URL:https://www.lifb.org/evenement/sport-en-eveil-par-le-cros-idf/
LOCATION:Vaires-sur-Marne\, Vaires-sur-Marne\, 77360\, France
CATEGORIES:Développement
END:VEVENT
END:VCALENDAR