BEGIN:VCALENDAR
VERSION:2.0
PRODID:-//Ligue Île-de-France de Badminton - ECPv6.5.1.6//NONSGML v1.0//EN
CALSCALE:GREGORIAN
METHOD:PUBLISH
X-ORIGINAL-URL:https://www.lifb.org
X-WR-CALDESC:évènements pour Ligue Île-de-France de Badminton
REFRESH-INTERVAL;VALUE=DURATION:PT1H
X-Robots-Tag:noindex
X-PUBLISHED-TTL:PT1H
BEGIN:VTIMEZONE
TZID:Europe/Paris
BEGIN:DAYLIGHT
TZOFFSETFROM:+0100
TZOFFSETTO:+0200
TZNAME:CEST
DTSTART:20240331T010000
END:DAYLIGHT
BEGIN:STANDARD
TZOFFSETFROM:+0200
TZOFFSETTO:+0100
TZNAME:CET
DTSTART:20241027T010000
END:STANDARD
END:VTIMEZONE
BEGIN:VEVENT
DTSTART;VALUE=DATE:20240228
DTEND;VALUE=DATE:20240304
DTSTAMP:20260424T042211
CREATED:20240205T103726Z
LAST-MODIFIED:20240205T103726Z
UID:17759-1709078400-1709510399@www.lifb.org
SUMMARY:YONEX Dutch Junior International 2024
DESCRIPTION:
URL:https://www.lifb.org/evenement/yonex-dutch-junior-international-2024/
LOCATION:Haarlem (Pays-bas)\, France
CATEGORIES:Compétition Internationales
END:VEVENT
BEGIN:VEVENT
DTSTART;VALUE=DATE:20240229
DTEND;VALUE=DATE:20240303
DTSTAMP:20260424T042211
CREATED:20240205T103802Z
LAST-MODIFIED:20240205T103802Z
UID:17761-1709164800-1709423999@www.lifb.org
SUMMARY:YONEX France U17 Open 2024
DESCRIPTION:
URL:https://www.lifb.org/evenement/yonex-france-u17-open-2024/
LOCATION:Aire-sur-la-Lys (62)\, Aire-sur-la-Lys
CATEGORIES:Compétition Internationales
END:VEVENT
END:VCALENDAR