BEGIN:VCALENDAR
VERSION:2.0
PRODID:-//Ligue Île-de-France de Badminton - ECPv6.5.1.6//NONSGML v1.0//EN
CALSCALE:GREGORIAN
METHOD:PUBLISH
X-WR-CALNAME:Ligue Île-de-France de Badminton
X-ORIGINAL-URL:https://www.lifb.org
X-WR-CALDESC:évènements pour Ligue Île-de-France de Badminton
REFRESH-INTERVAL;VALUE=DURATION:PT1H
X-Robots-Tag:noindex
X-PUBLISHED-TTL:PT1H
BEGIN:VTIMEZONE
TZID:Europe/Paris
BEGIN:DAYLIGHT
TZOFFSETFROM:+0100
TZOFFSETTO:+0200
TZNAME:CEST
DTSTART:20240331T010000
END:DAYLIGHT
BEGIN:STANDARD
TZOFFSETFROM:+0200
TZOFFSETTO:+0100
TZNAME:CET
DTSTART:20241027T010000
END:STANDARD
END:VTIMEZONE
BEGIN:VEVENT
DTSTART;VALUE=DATE:20240315
DTEND;VALUE=DATE:20240318
DTSTAMP:20260424T042851
CREATED:20240205T104221Z
LAST-MODIFIED:20240205T104221Z
UID:17769-1710460800-1710719999@www.lifb.org
SUMMARY:IBERDROLA Spanish Junior Open 2024
DESCRIPTION:
URL:https://www.lifb.org/evenement/iberdrola-spanish-junior-open-2024/
LOCATION:Oviedo (Espagne)\, Oviedo\, Espagne
CATEGORIES:Compétition Internationales
END:VEVENT
BEGIN:VEVENT
DTSTART;VALUE=DATE:20240316
DTEND;VALUE=DATE:20240318
DTSTAMP:20260424T042851
CREATED:20231106T142245Z
LAST-MODIFIED:20231106T142720Z
UID:16632-1710547200-1710719999@www.lifb.org
SUMMARY:Formation Arbitre de Ligue Accrédité - 75
DESCRIPTION:Formation uniquement pour les jeunes de -18 ans.
URL:https://www.lifb.org/evenement/formation-arbitre-de-ligue-accredite-75-3/
LOCATION:Paris 17e\, Paris\, 75017
CATEGORIES:Formations OT
END:VEVENT
END:VCALENDAR