BEGIN:VCALENDAR
VERSION:2.0
PRODID:-//Ligue Île-de-France de Badminton - ECPv6.5.1.6//NONSGML v1.0//EN
CALSCALE:GREGORIAN
METHOD:PUBLISH
X-WR-CALNAME:Ligue Île-de-France de Badminton
X-ORIGINAL-URL:https://www.lifb.org
X-WR-CALDESC:évènements pour Ligue Île-de-France de Badminton
REFRESH-INTERVAL;VALUE=DURATION:PT1H
X-Robots-Tag:noindex
X-PUBLISHED-TTL:PT1H
BEGIN:VTIMEZONE
TZID:Europe/Paris
BEGIN:DAYLIGHT
TZOFFSETFROM:+0100
TZOFFSETTO:+0200
TZNAME:CEST
DTSTART:20240331T010000
END:DAYLIGHT
BEGIN:STANDARD
TZOFFSETFROM:+0200
TZOFFSETTO:+0100
TZNAME:CET
DTSTART:20241027T010000
END:STANDARD
END:VTIMEZONE
BEGIN:VEVENT
DTSTART;VALUE=DATE:20240329
DTEND;VALUE=DATE:20240401
DTSTAMP:20260424T042800
CREATED:20240205T104310Z
LAST-MODIFIED:20240205T105507Z
UID:17772-1711670400-1711929599@www.lifb.org
SUMMARY:VICTOR JOT U13 - U15 - U17 2024 (OLVE)
DESCRIPTION:
URL:https://www.lifb.org/evenement/victor-jot-u17-2024-olve/
LOCATION:Edegem (Belgique)\, Edegem\, Belgique
CATEGORIES:Compétition Internationales
END:VEVENT
BEGIN:VEVENT
DTSTART;VALUE=DATE:20240330
DTEND;VALUE=DATE:20240401
DTSTAMP:20260424T042800
CREATED:20230629T132455Z
LAST-MODIFIED:20230629T132455Z
UID:14947-1711756800-1711929599@www.lifb.org
SUMMARY:Circuit Régional Jeunes n°3
DESCRIPTION:
URL:https://www.lifb.org/evenement/circuit-regional-jeunes-n3/
LOCATION:A définir
CATEGORIES:Compétitions Ligue
END:VEVENT
BEGIN:VEVENT
DTSTART;VALUE=DATE:20240330
DTEND;VALUE=DATE:20240401
DTSTAMP:20260424T042800
CREATED:20240318T142136Z
LAST-MODIFIED:20240318T142351Z
UID:18132-1711756800-1711929599@www.lifb.org
SUMMARY:Formation Arbitre de Ligue Accrédité - 77
DESCRIPTION:
URL:https://www.lifb.org/evenement/formation-arbitre-de-ligue-accredite-77-2/
LOCATION:Val d’Europe\, Val d'Europe\, 77
CATEGORIES:Formations OT
END:VEVENT
BEGIN:VEVENT
DTSTART;VALUE=DATE:20240330
DTEND;VALUE=DATE:20240331
DTSTAMP:20260424T042800
CREATED:20240318T144748Z
LAST-MODIFIED:20240318T144748Z
UID:18148-1711756800-1711843199@www.lifb.org
SUMMARY:Étape du TOP 92
DESCRIPTION:
URL:https://www.lifb.org/evenement/etape-du-top-92/
LOCATION:Suresne\, Suresnes\, 92
CATEGORIES:Développement
END:VEVENT
END:VCALENDAR