BEGIN:VCALENDAR
VERSION:2.0
PRODID:-//Ligue Île-de-France de Badminton - ECPv6.5.1.6//NONSGML v1.0//EN
CALSCALE:GREGORIAN
METHOD:PUBLISH
X-WR-CALNAME:Ligue Île-de-France de Badminton
X-ORIGINAL-URL:https://www.lifb.org
X-WR-CALDESC:évènements pour Ligue Île-de-France de Badminton
REFRESH-INTERVAL;VALUE=DURATION:PT1H
X-Robots-Tag:noindex
X-PUBLISHED-TTL:PT1H
BEGIN:VTIMEZONE
TZID:Europe/Paris
BEGIN:DAYLIGHT
TZOFFSETFROM:+0100
TZOFFSETTO:+0200
TZNAME:CEST
DTSTART:20240331T010000
END:DAYLIGHT
BEGIN:STANDARD
TZOFFSETFROM:+0200
TZOFFSETTO:+0100
TZNAME:CET
DTSTART:20241027T010000
END:STANDARD
END:VTIMEZONE
BEGIN:VEVENT
DTSTART;VALUE=DATE:20240402
DTEND;VALUE=DATE:20240403
DTSTAMP:20260424T030727
CREATED:20240318T144307Z
LAST-MODIFIED:20240318T144307Z
UID:18141-1712016000-1712102399@www.lifb.org
SUMMARY:Lancement de la SOP (Semaine Olympique et Paralympique)
DESCRIPTION:
URL:https://www.lifb.org/evenement/lancement-de-la-sop-semaine-olympique-et-paralympique/
LOCATION:Adidas Aren\, 56 Bd Ney\, PARIS\, 75018
CATEGORIES:Développement
END:VEVENT
BEGIN:VEVENT
DTSTART;TZID=Europe/Paris:20240402T080000
DTEND;TZID=Europe/Paris:20240406T170000
DTSTAMP:20260424T030727
CREATED:20240318T144145Z
LAST-MODIFIED:20240318T144518Z
UID:18139-1712044800-1712422800@www.lifb.org
SUMMARY:Semaine Olympique et Paralympique (SOP)
DESCRIPTION:
URL:https://www.lifb.org/evenement/semaine-olympique-et-paralympique-2/
CATEGORIES:Développement
END:VEVENT
END:VCALENDAR