BEGIN:VCALENDAR
VERSION:2.0
PRODID:-//Ligue Île-de-France de Badminton - ECPv6.5.1.6//NONSGML v1.0//EN
CALSCALE:GREGORIAN
METHOD:PUBLISH
X-WR-CALNAME:Ligue Île-de-France de Badminton
X-ORIGINAL-URL:https://www.lifb.org
X-WR-CALDESC:évènements pour Ligue Île-de-France de Badminton
REFRESH-INTERVAL;VALUE=DURATION:PT1H
X-Robots-Tag:noindex
X-PUBLISHED-TTL:PT1H
BEGIN:VTIMEZONE
TZID:Europe/Paris
BEGIN:DAYLIGHT
TZOFFSETFROM:+0100
TZOFFSETTO:+0200
TZNAME:CEST
DTSTART:20240331T010000
END:DAYLIGHT
BEGIN:STANDARD
TZOFFSETFROM:+0200
TZOFFSETTO:+0100
TZNAME:CET
DTSTART:20241027T010000
END:STANDARD
END:VTIMEZONE
BEGIN:VEVENT
DTSTART;VALUE=DATE:20240510
DTEND;VALUE=DATE:20240513
DTSTAMP:20260424T015906
CREATED:20230913T145609Z
LAST-MODIFIED:20230913T145609Z
UID:15680-1715299200-1715558399@www.lifb.org
SUMMARY:Championnats de France Jeunes
DESCRIPTION:
URL:https://www.lifb.org/evenement/championnats-de-france-jeunes-2/
LOCATION:Lyon\, Lyon\, 69000\, France
CATEGORIES:Compétition Internationales
END:VEVENT
BEGIN:VEVENT
DTSTART;VALUE=DATE:20240510
DTEND;VALUE=DATE:20240513
DTSTAMP:20260424T015906
CREATED:20240506T133559Z
LAST-MODIFIED:20240506T133559Z
UID:18675-1715299200-1715558399@www.lifb.org
SUMMARY:Foire de Paris
DESCRIPTION:
URL:https://www.lifb.org/evenement/foire-de-paris/
LOCATION:Parc des Expositions\, Porte de Versailles\, Paris\, France
CATEGORIES:Développement
END:VEVENT
END:VCALENDAR