BEGIN:VCALENDAR
VERSION:2.0
PRODID:-//Ligue Île-de-France de Badminton - ECPv6.5.1.6//NONSGML v1.0//EN
CALSCALE:GREGORIAN
METHOD:PUBLISH
X-WR-CALNAME:Ligue Île-de-France de Badminton
X-ORIGINAL-URL:https://www.lifb.org
X-WR-CALDESC:évènements pour Ligue Île-de-France de Badminton
REFRESH-INTERVAL;VALUE=DURATION:PT1H
X-Robots-Tag:noindex
X-PUBLISHED-TTL:PT1H
BEGIN:VTIMEZONE
TZID:Europe/Paris
BEGIN:DAYLIGHT
TZOFFSETFROM:+0100
TZOFFSETTO:+0200
TZNAME:CEST
DTSTART:20240331T010000
END:DAYLIGHT
BEGIN:STANDARD
TZOFFSETFROM:+0200
TZOFFSETTO:+0100
TZNAME:CET
DTSTART:20241027T010000
END:STANDARD
END:VTIMEZONE
BEGIN:VEVENT
DTSTART;VALUE=DATE:20240525
DTEND;VALUE=DATE:20240527
DTSTAMP:20260424T020729
CREATED:20230629T132806Z
LAST-MODIFIED:20240318T152240Z
UID:14956-1716595200-1716767999@www.lifb.org
SUMMARY:Championnat Régional Séniors
DESCRIPTION:
URL:https://www.lifb.org/evenement/regional-seniors/
LOCATION:Siège social de la LIFB\, 64\, Rue du Couëdic\, Paris\, 75014\, France
CATEGORIES:Compétitions Ligue
END:VEVENT
BEGIN:VEVENT
DTSTART;VALUE=DATE:20240525
DTEND;VALUE=DATE:20240527
DTSTAMP:20260424T020729
CREATED:20240506T134832Z
LAST-MODIFIED:20240506T134959Z
UID:18678-1716595200-1716767999@www.lifb.org
SUMMARY:Examen Arbitre de Ligue Certifié - 78
DESCRIPTION:
URL:https://www.lifb.org/evenement/examen-arbitre-de-ligue-certifie-2/
LOCATION:Porcheville
CATEGORIES:Formations OT
END:VEVENT
END:VCALENDAR