BEGIN:VCALENDAR
VERSION:2.0
PRODID:-//Ligue Île-de-France de Badminton - ECPv6.5.1.6//NONSGML v1.0//EN
CALSCALE:GREGORIAN
METHOD:PUBLISH
X-WR-CALNAME:Ligue Île-de-France de Badminton
X-ORIGINAL-URL:https://www.lifb.org
X-WR-CALDESC:évènements pour Ligue Île-de-France de Badminton
REFRESH-INTERVAL;VALUE=DURATION:PT1H
X-Robots-Tag:noindex
X-PUBLISHED-TTL:PT1H
BEGIN:VTIMEZONE
TZID:Europe/Paris
BEGIN:DAYLIGHT
TZOFFSETFROM:+0100
TZOFFSETTO:+0200
TZNAME:CEST
DTSTART:20240331T010000
END:DAYLIGHT
BEGIN:STANDARD
TZOFFSETFROM:+0200
TZOFFSETTO:+0100
TZNAME:CET
DTSTART:20241027T010000
END:STANDARD
END:VTIMEZONE
BEGIN:VEVENT
DTSTART;VALUE=DATE:20240530
DTEND;VALUE=DATE:20240531
DTSTAMP:20260424T004809
CREATED:20240506T135634Z
LAST-MODIFIED:20240506T135659Z
UID:18684-1717027200-1717113599@www.lifb.org
SUMMARY:Du Stade vers l'Emploi "Les Jeux recrutent"
DESCRIPTION:
URL:https://www.lifb.org/evenement/du-stade-vers-lemploi-les-jeux-recrutent/
LOCATION:Chelles
CATEGORIES:Développement
END:VEVENT
BEGIN:VEVENT
DTSTART;VALUE=DATE:20240530
DTEND;VALUE=DATE:20240603
DTSTAMP:20260424T004809
CREATED:20240506T140740Z
LAST-MODIFIED:20240506T141505Z
UID:18693-1717027200-1717372799@www.lifb.org
SUMMARY:YONEX Czech Youth International Prague 2024
DESCRIPTION:
URL:https://www.lifb.org/evenement/yonex-czech-youth-international-prague-2024/
LOCATION:Prague
CATEGORIES:Compétition Internationales
END:VEVENT
END:VCALENDAR