BEGIN:VCALENDAR
VERSION:2.0
PRODID:-//Ligue Île-de-France de Badminton - ECPv6.5.1.6//NONSGML v1.0//EN
CALSCALE:GREGORIAN
METHOD:PUBLISH
X-WR-CALNAME:Ligue Île-de-France de Badminton
X-ORIGINAL-URL:https://www.lifb.org
X-WR-CALDESC:évènements pour Ligue Île-de-France de Badminton
REFRESH-INTERVAL;VALUE=DURATION:PT1H
X-Robots-Tag:noindex
X-PUBLISHED-TTL:PT1H
BEGIN:VTIMEZONE
TZID:Europe/Paris
BEGIN:DAYLIGHT
TZOFFSETFROM:+0100
TZOFFSETTO:+0200
TZNAME:CEST
DTSTART:20240331T010000
END:DAYLIGHT
BEGIN:STANDARD
TZOFFSETFROM:+0200
TZOFFSETTO:+0100
TZNAME:CET
DTSTART:20241027T010000
END:STANDARD
END:VTIMEZONE
BEGIN:VEVENT
DTSTART;VALUE=DATE:20240530
DTEND;VALUE=DATE:20240603
DTSTAMP:20260424T004810
CREATED:20240506T140740Z
LAST-MODIFIED:20240506T141505Z
UID:18693-1717027200-1717372799@www.lifb.org
SUMMARY:YONEX Czech Youth International Prague 2024
DESCRIPTION:
URL:https://www.lifb.org/evenement/yonex-czech-youth-international-prague-2024/
LOCATION:Prague
CATEGORIES:Compétition Internationales
END:VEVENT
BEGIN:VEVENT
DTSTART;VALUE=DATE:20240531
DTEND;VALUE=DATE:20240603
DTSTAMP:20260424T004810
CREATED:20240506T140853Z
LAST-MODIFIED:20240506T141410Z
UID:18697-1717113600-1717372799@www.lifb.org
SUMMARY:YONEX 3 Borders U19 2024
DESCRIPTION:
URL:https://www.lifb.org/evenement/yonex-3-borders-u19-2024/
LOCATION:Saint Louis
CATEGORIES:Compétition Internationales
END:VEVENT
BEGIN:VEVENT
DTSTART;VALUE=DATE:20240601
DTEND;VALUE=DATE:20240603
DTSTAMP:20260424T004810
CREATED:20230913T145440Z
LAST-MODIFIED:20230913T145440Z
UID:15677-1717200000-1717372799@www.lifb.org
SUMMARY:Circuit Régional Jeunes n°4
DESCRIPTION:
URL:https://www.lifb.org/evenement/circuit-regional-jeunes-n4/
LOCATION:Cergy\, Cergy\, 95000\, France
CATEGORIES:Compétitions Ligue
END:VEVENT
BEGIN:VEVENT
DTSTART;VALUE=DATE:20240601
DTEND;VALUE=DATE:20240603
DTSTAMP:20260424T004810
CREATED:20240318T141945Z
LAST-MODIFIED:20240318T142342Z
UID:18129-1717200000-1717372799@www.lifb.org
SUMMARY:Examen Arbitre de Ligue Accrédité - 94
DESCRIPTION:
URL:https://www.lifb.org/evenement/examen-arbitre-de-ligue-accredite/
LOCATION:Thiais\, Thiais
CATEGORIES:Formations OT
END:VEVENT
END:VCALENDAR