BEGIN:VCALENDAR
VERSION:2.0
PRODID:-//Ligue Île-de-France de Badminton - ECPv6.5.1.6//NONSGML v1.0//EN
CALSCALE:GREGORIAN
METHOD:PUBLISH
X-WR-CALNAME:Ligue Île-de-France de Badminton
X-ORIGINAL-URL:https://www.lifb.org
X-WR-CALDESC:évènements pour Ligue Île-de-France de Badminton
REFRESH-INTERVAL;VALUE=DURATION:PT1H
X-Robots-Tag:noindex
X-PUBLISHED-TTL:PT1H
BEGIN:VTIMEZONE
TZID:Europe/Paris
BEGIN:DAYLIGHT
TZOFFSETFROM:+0100
TZOFFSETTO:+0200
TZNAME:CEST
DTSTART:20240331T010000
END:DAYLIGHT
BEGIN:STANDARD
TZOFFSETFROM:+0200
TZOFFSETTO:+0100
TZNAME:CET
DTSTART:20241027T010000
END:STANDARD
END:VTIMEZONE
BEGIN:VEVENT
DTSTART;VALUE=DATE:20240928
DTEND;VALUE=DATE:20240930
DTSTAMP:20260423T203122
CREATED:20240912T100237Z
LAST-MODIFIED:20240912T100237Z
UID:20072-1727481600-1727654399@www.lifb.org
SUMMARY:MODEF à Ermont (95)
DESCRIPTION:
URL:https://www.lifb.org/evenement/modef-a-ermont-95/
LOCATION:Ermont
CATEGORIES:Formations encadrants
END:VEVENT
BEGIN:VEVENT
DTSTART;VALUE=DATE:20240928
DTEND;VALUE=DATE:20240930
DTSTAMP:20260423T203122
CREATED:20240912T100416Z
LAST-MODIFIED:20240912T100416Z
UID:20076-1727481600-1727654399@www.lifb.org
SUMMARY:Formation GEO 1 à Chaville (92)
DESCRIPTION:
URL:https://www.lifb.org/evenement/formation-geo-1-a-chaville-92/
LOCATION:Chaville\, CHAVILLE
CATEGORIES:Formations GEO
END:VEVENT
BEGIN:VEVENT
DTSTART;VALUE=DATE:20240928
DTEND;VALUE=DATE:20240930
DTSTAMP:20260423T203122
CREATED:20240912T100516Z
LAST-MODIFIED:20240912T100516Z
UID:20079-1727481600-1727654399@www.lifb.org
SUMMARY:Formation GEO 1 à Herblay (95)
DESCRIPTION:
URL:https://www.lifb.org/evenement/formation-geo-1-a-herblay-95/
LOCATION:Herblay\, Herblay
CATEGORIES:Formations GEO
END:VEVENT
END:VCALENDAR