BEGIN:VCALENDAR
VERSION:2.0
PRODID:-//Ligue Île-de-France de Badminton - ECPv6.5.1.6//NONSGML v1.0//EN
CALSCALE:GREGORIAN
METHOD:PUBLISH
X-ORIGINAL-URL:https://www.lifb.org
X-WR-CALDESC:évènements pour Ligue Île-de-France de Badminton
REFRESH-INTERVAL;VALUE=DURATION:PT1H
X-Robots-Tag:noindex
X-PUBLISHED-TTL:PT1H
BEGIN:VTIMEZONE
TZID:Europe/Paris
BEGIN:DAYLIGHT
TZOFFSETFROM:+0100
TZOFFSETTO:+0200
TZNAME:CEST
DTSTART:20240331T010000
END:DAYLIGHT
BEGIN:STANDARD
TZOFFSETFROM:+0200
TZOFFSETTO:+0100
TZNAME:CET
DTSTART:20241027T010000
END:STANDARD
END:VTIMEZONE
BEGIN:VEVENT
DTSTART;VALUE=DATE:20241018
DTEND;VALUE=DATE:20241021
DTSTAMP:20260423T190432
CREATED:20240617T134436Z
LAST-MODIFIED:20240618T085034Z
UID:19187-1729209600-1729468799@www.lifb.org
SUMMARY:Circuit Elite Jeunes (CEJ) n°1
DESCRIPTION:
URL:https://www.lifb.org/evenement/circuit-elite-jeunes-cej-n1/
LOCATION:A définir
CATEGORIES:Compétitions Fédérales
END:VEVENT
BEGIN:VEVENT
DTSTART;VALUE=DATE:20241019
DTEND;VALUE=DATE:20241021
DTSTAMP:20260423T190432
CREATED:20240912T114250Z
LAST-MODIFIED:20240912T114250Z
UID:20082-1729296000-1729468799@www.lifb.org
SUMMARY:Formation GEO 1 à Paris (75)
DESCRIPTION:
URL:https://www.lifb.org/evenement/formation-geo-1-a-paris-75/
LOCATION:Paris\, PARIS\, 75000
CATEGORIES:Formations GEO
END:VEVENT
BEGIN:VEVENT
DTSTART;VALUE=DATE:20241019
DTEND;VALUE=DATE:20241021
DTSTAMP:20260423T190432
CREATED:20240912T114325Z
LAST-MODIFIED:20240912T114325Z
UID:20085-1729296000-1729468799@www.lifb.org
SUMMARY:Formation GEO 1 à Mennecy (91)
DESCRIPTION:
URL:https://www.lifb.org/evenement/formation-geo-1-a-mennecy-91/
LOCATION:Mennecy\, Mennecy\, France
CATEGORIES:Formations GEO
END:VEVENT
BEGIN:VEVENT
DTSTART;VALUE=DATE:20241019
DTEND;VALUE=DATE:20241021
DTSTAMP:20260423T190432
CREATED:20241001T110158Z
LAST-MODIFIED:20241008T074739Z
UID:20255-1729296000-1729468799@www.lifb.org
SUMMARY:Examen Arbitre de Ligue Accrédité (77)
DESCRIPTION:
URL:https://www.lifb.org/evenement/examen-arbitre-de-ligue-accredite-77/
LOCATION:Ozoir\, Ozoir-la-Ferrière\, 77330
CATEGORIES:Formations OT
END:VEVENT
BEGIN:VEVENT
DTSTART;VALUE=DATE:20241019
DTEND;VALUE=DATE:20241021
DTSTAMP:20260423T190432
CREATED:20240617T124243Z
LAST-MODIFIED:20240909T104802Z
UID:19136-1729296000-1729468799@www.lifb.org
SUMMARY:Tournoi Labellisé Jeunes (TLJ) n°1
DESCRIPTION:
URL:https://www.lifb.org/evenement/tournoi-labellise-jeunes-tlj-n1/
LOCATION:Ermont
CATEGORIES:Compétitions Ligue
END:VEVENT
END:VCALENDAR