BEGIN:VCALENDAR
VERSION:2.0
PRODID:-//Ligue Île-de-France de Badminton - ECPv6.5.1.6//NONSGML v1.0//EN
CALSCALE:GREGORIAN
METHOD:PUBLISH
X-WR-CALNAME:Ligue Île-de-France de Badminton
X-ORIGINAL-URL:https://www.lifb.org
X-WR-CALDESC:évènements pour Ligue Île-de-France de Badminton
REFRESH-INTERVAL;VALUE=DURATION:PT1H
X-Robots-Tag:noindex
X-PUBLISHED-TTL:PT1H
BEGIN:VTIMEZONE
TZID:Europe/Paris
BEGIN:DAYLIGHT
TZOFFSETFROM:+0100
TZOFFSETTO:+0200
TZNAME:CEST
DTSTART:20240331T010000
END:DAYLIGHT
BEGIN:STANDARD
TZOFFSETFROM:+0200
TZOFFSETTO:+0100
TZNAME:CET
DTSTART:20241027T010000
END:STANDARD
END:VTIMEZONE
BEGIN:VEVENT
DTSTART;VALUE=DATE:20241025
DTEND;VALUE=DATE:20241026
DTSTAMP:20260423T190250
CREATED:20240912T094711Z
LAST-MODIFIED:20240912T094711Z
UID:20053-1729814400-1729900799@www.lifb.org
SUMMARY:Du Stade Vers l'Emploi à Saint-Maur (94)
DESCRIPTION:
URL:https://www.lifb.org/evenement/du-stade-vers-lemploi-a-saint-maur-94/
LOCATION:Saint-Maur-des-Fossés\, Saint-Maur-des-Fossés\, France
CATEGORIES:Développement
END:VEVENT
END:VCALENDAR