BEGIN:VCALENDAR
VERSION:2.0
PRODID:-//Ligue Île-de-France de Badminton - ECPv6.5.1.6//NONSGML v1.0//EN
CALSCALE:GREGORIAN
METHOD:PUBLISH
X-ORIGINAL-URL:https://www.lifb.org
X-WR-CALDESC:évènements pour Ligue Île-de-France de Badminton
REFRESH-INTERVAL;VALUE=DURATION:PT1H
X-Robots-Tag:noindex
X-PUBLISHED-TTL:PT1H
BEGIN:VTIMEZONE
TZID:Europe/Paris
BEGIN:DAYLIGHT
TZOFFSETFROM:+0100
TZOFFSETTO:+0200
TZNAME:CEST
DTSTART:20240331T010000
END:DAYLIGHT
BEGIN:STANDARD
TZOFFSETFROM:+0200
TZOFFSETTO:+0100
TZNAME:CET
DTSTART:20241027T010000
END:STANDARD
END:VTIMEZONE
BEGIN:VEVENT
DTSTART;VALUE=DATE:20241029
DTEND;VALUE=DATE:20241030
DTSTAMP:20260423T174135
CREATED:20240912T094759Z
LAST-MODIFIED:20240912T094759Z
UID:20055-1730160000-1730246399@www.lifb.org
SUMMARY:Du Stade Vers l'Emploi à Rosny-sous-Bois (93)
DESCRIPTION:
URL:https://www.lifb.org/evenement/du-stade-vers-lemploi-a-rosny-sous-bois-93/
LOCATION:Rosny-sous-Bois\, Rosny-sous-Bois\, 93110
CATEGORIES:Développement
END:VEVENT
END:VCALENDAR