BEGIN:VCALENDAR
VERSION:2.0
PRODID:-//Ligue Île-de-France de Badminton - ECPv6.5.1.6//NONSGML v1.0//EN
CALSCALE:GREGORIAN
METHOD:PUBLISH
X-ORIGINAL-URL:https://www.lifb.org
X-WR-CALDESC:évènements pour Ligue Île-de-France de Badminton
REFRESH-INTERVAL;VALUE=DURATION:PT1H
X-Robots-Tag:noindex
X-PUBLISHED-TTL:PT1H
BEGIN:VTIMEZONE
TZID:Europe/Paris
BEGIN:DAYLIGHT
TZOFFSETFROM:+0100
TZOFFSETTO:+0200
TZNAME:CEST
DTSTART:20240331T010000
END:DAYLIGHT
BEGIN:STANDARD
TZOFFSETFROM:+0200
TZOFFSETTO:+0100
TZNAME:CET
DTSTART:20241027T010000
END:STANDARD
END:VTIMEZONE
BEGIN:VEVENT
DTSTART;TZID=Europe/Paris:20241109T080000
DTEND;TZID=Europe/Paris:20241111T170000
DTSTAMP:20260423T174306
CREATED:20240617T132736Z
LAST-MODIFIED:20240617T132736Z
UID:19174-1731139200-1731344400@www.lifb.org
SUMMARY:Championnat de France Vétérans
DESCRIPTION:
URL:https://www.lifb.org/evenement/championnat-de-france-veterans-2/
CATEGORIES:Compétitions Fédérales
END:VEVENT
END:VCALENDAR