BEGIN:VCALENDAR
VERSION:2.0
PRODID:-//Ligue Île-de-France de Badminton - ECPv6.5.1.6//NONSGML v1.0//EN
CALSCALE:GREGORIAN
METHOD:PUBLISH
X-WR-CALNAME:Ligue Île-de-France de Badminton
X-ORIGINAL-URL:https://www.lifb.org
X-WR-CALDESC:évènements pour Ligue Île-de-France de Badminton
REFRESH-INTERVAL;VALUE=DURATION:PT1H
X-Robots-Tag:noindex
X-PUBLISHED-TTL:PT1H
BEGIN:VTIMEZONE
TZID:Europe/Paris
BEGIN:DAYLIGHT
TZOFFSETFROM:+0100
TZOFFSETTO:+0200
TZNAME:CEST
DTSTART:20250330T010000
END:DAYLIGHT
BEGIN:STANDARD
TZOFFSETFROM:+0200
TZOFFSETTO:+0100
TZNAME:CET
DTSTART:20251026T010000
END:STANDARD
END:VTIMEZONE
BEGIN:VEVENT
DTSTART;TZID=Europe/Paris:20250304T080000
DTEND;TZID=Europe/Paris:20250309T170000
DTSTAMP:20260421T142755
CREATED:20250127T105951Z
LAST-MODIFIED:20250127T105951Z
UID:21813-1741075200-1741539600@www.lifb.org
SUMMARY:Orleans Masters Badminton 2025
DESCRIPTION:
URL:https://www.lifb.org/evenement/orleans-masters-badminton-2025/
LOCATION:Orléans (45)\, Orléans (45)
CATEGORIES:Compétition Internationales
END:VEVENT
END:VCALENDAR