BEGIN:VCALENDAR
VERSION:2.0
PRODID:-//Ligue Île-de-France de Badminton - ECPv6.5.1.6//NONSGML v1.0//EN
CALSCALE:GREGORIAN
METHOD:PUBLISH
X-ORIGINAL-URL:https://www.lifb.org
X-WR-CALDESC:évènements pour Ligue Île-de-France de Badminton
REFRESH-INTERVAL;VALUE=DURATION:PT1H
X-Robots-Tag:noindex
X-PUBLISHED-TTL:PT1H
BEGIN:VTIMEZONE
TZID:Europe/Paris
BEGIN:DAYLIGHT
TZOFFSETFROM:+0100
TZOFFSETTO:+0200
TZNAME:CEST
DTSTART:20210328T010000
END:DAYLIGHT
BEGIN:STANDARD
TZOFFSETFROM:+0200
TZOFFSETTO:+0100
TZNAME:CET
DTSTART:20211031T010000
END:STANDARD
END:VTIMEZONE
BEGIN:VEVENT
DTSTART;TZID=Europe/Paris:20210607T203000
DTEND;TZID=Europe/Paris:20210607T213000
DTSTAMP:20260425T235505
CREATED:20210603T213544Z
LAST-MODIFIED:20210603T213609Z
UID:8367-1623097800-1623101400@www.lifb.org
SUMMARY:Webinaire CLOT LIFB n°1 : les joueurs et l'arbitrage (1)
DESCRIPTION:La CLOT a un projet global sur l’olympiade 2021/2024 de vouloir :\n\nsensibiliser les licenciés franciliens aux rôles des OT\,\naméliorer l’image qu’ils peuvent se faire des filières OT\,\nmais également d’améliorer la formation continue des OT franciliens.\n\nPour cela\, la CLOT va également mettre en place des webinaires. \n\nLe 1er webinaire aura lieu le lundi 7 juin\, de 20h30 à 21h30\, sur Teams\, ouvert à tous les licenciés\, et concernera les règles du jeu.\n\n\n“Webinaire CLOT LIFB n°1 : les joueurs et l’arbitrage (1)” : Cliquez ici pour rejoindre le webinaire \n\n\n\n\n\n\n\n\n\nCe webinaire se veut d’être ludique et interactif.\nIl sera animé par plusieurs formateurs via un quiz Kahoot\, en prenant le temps entre chaque question de répondre à vos interrogations.\nLe but est de sensibiliser les licenciés aux règles et à l’arbitrage\, pour notamment casser certaines idées reçues ou rumeurs.\nIl permettra également aux candidats ALA\, et même aux arbitres\, JdL et JA gradés\, de réviser en s’amusant\, et d’avoir un 1er élément de formation continue que la CLOT souhaite renforcer.\nL’idée est d’organiser de façon régulière ce genre de webinaire pour améliorer le lien entre les licenciés et les OT\, mais aussi entre les OT et les formateurs.\n\n\nCette série de webinaires étant sous forme de quiz\, les meilleurs participants sur l’ensemble des webinaires seront récompensés.\nOn distinguera bien sûr les 2 types de profils suivants : participants non-OT et participants OT.\n\nLes meilleurs de chaque type de profil seront récompensés : des places pour les IFB 2021 seront à gagner (https://www.yonexifb.com) ! 🙂\n\n\n\n\nLien Webinaire
URL:https://www.lifb.org/evenement/webinaire-clot-lifb-n1-les-joueurs-et-larbitrage-1/
LOCATION:Teams\, 64\, Rue du Couëdic Paris\, Paris\, France
CATEGORIES:Formations OT
END:VEVENT
BEGIN:VEVENT
DTSTART;TZID=Europe/Paris:20210614T080000
DTEND;TZID=Europe/Paris:20210614T170000
DTSTAMP:20260425T235505
CREATED:20210623T094320Z
LAST-MODIFIED:20210623T094320Z
UID:8620-1623657600-1623690000@www.lifb.org
SUMMARY:Arrivée d'Olivier
DESCRIPTION:Bienvenu !
URL:https://www.lifb.org/evenement/arrivee-dolivier/
LOCATION:Siège social de la LIFB\, 64\, Rue du Couëdic\, Paris\, 75014\, France
CATEGORIES:Administration
END:VEVENT
BEGIN:VEVENT
DTSTART;TZID=Europe/Paris:20210616T193000
DTEND;TZID=Europe/Paris:20210616T223000
DTSTAMP:20260425T235505
CREATED:20210220T180546Z
LAST-MODIFIED:20210601T183612Z
UID:7445-1623871800-1623882600@www.lifb.org
SUMMARY:Conseil d’Administration
DESCRIPTION:
URL:https://www.lifb.org/evenement/conseil-dadministration-4/
LOCATION:Teams\, 64\, Rue du Couëdic Paris\, Paris\, France
CATEGORIES:Administration
END:VEVENT
BEGIN:VEVENT
DTSTART;VALUE=DATE:20210626
DTEND;VALUE=DATE:20210628
DTSTAMP:20260425T235505
CREATED:20210126T090640Z
LAST-MODIFIED:20210601T182841Z
UID:7215-1624665600-1624838399@www.lifb.org
SUMMARY:ANNULE : Championnat Régional Vétérans
DESCRIPTION:
URL:https://www.lifb.org/evenement/regional-veterans/
LOCATION:L’Haÿ-les-Roses\, L'Haÿ-les-Roses\, 94240\, France
CATEGORIES:Compétitions Ligue
END:VEVENT
END:VCALENDAR