BEGIN:VCALENDAR
VERSION:2.0
PRODID:-//Ligue Île-de-France de Badminton - ECPv6.5.1.6//NONSGML v1.0//EN
CALSCALE:GREGORIAN
METHOD:PUBLISH
X-ORIGINAL-URL:https://www.lifb.org
X-WR-CALDESC:évènements pour Ligue Île-de-France de Badminton
REFRESH-INTERVAL;VALUE=DURATION:PT1H
X-Robots-Tag:noindex
X-PUBLISHED-TTL:PT1H
BEGIN:VTIMEZONE
TZID:Europe/Paris
BEGIN:DAYLIGHT
TZOFFSETFROM:+0100
TZOFFSETTO:+0200
TZNAME:CEST
DTSTART:20220327T010000
END:DAYLIGHT
BEGIN:STANDARD
TZOFFSETFROM:+0200
TZOFFSETTO:+0100
TZNAME:CET
DTSTART:20221030T010000
END:STANDARD
END:VTIMEZONE
BEGIN:VEVENT
DTSTART;VALUE=DATE:20220103
DTEND;VALUE=DATE:20220105
DTSTAMP:20260425T143812
CREATED:20210706T135945Z
LAST-MODIFIED:20210706T135945Z
UID:8824-1641168000-1641340799@www.lifb.org
SUMMARY:DEJEPS 2021/2022
DESCRIPTION:
URL:https://www.lifb.org/evenement/dejeps-2021-2022-16/
CATEGORIES:Formations encadrants
END:VEVENT
BEGIN:VEVENT
DTSTART;VALUE=DATE:20220108
DTEND;VALUE=DATE:20220110
DTSTAMP:20260425T143812
CREATED:20210831T081633Z
LAST-MODIFIED:20210831T081633Z
UID:9223-1641600000-1641772799@www.lifb.org
SUMMARY:AB1 CD 78
DESCRIPTION:
URL:https://www.lifb.org/evenement/ab1-cd-78/
CATEGORIES:Formations encadrants
END:VEVENT
BEGIN:VEVENT
DTSTART;TZID=Europe/Paris:20220108T080000
DTEND;TZID=Europe/Paris:20220109T170000
DTSTAMP:20260425T143812
CREATED:20210906T141403Z
LAST-MODIFIED:20210906T141433Z
UID:9332-1641628800-1641747600@www.lifb.org
SUMMARY:ICN J5
DESCRIPTION:
URL:https://www.lifb.org/evenement/icn-j5/
CATEGORIES:Compétitions Ligue
END:VEVENT
BEGIN:VEVENT
DTSTART;VALUE=DATE:20220110
DTEND;VALUE=DATE:20220115
DTSTAMP:20260425T143812
CREATED:20210706T140015Z
LAST-MODIFIED:20210706T140015Z
UID:8826-1641772800-1642204799@www.lifb.org
SUMMARY:DEJEPS 2021/2022
DESCRIPTION:
URL:https://www.lifb.org/evenement/dejeps-2021-2022-17/
CATEGORIES:Formations encadrants
END:VEVENT
BEGIN:VEVENT
DTSTART;VALUE=DATE:20220115
DTEND;VALUE=DATE:20220117
DTSTAMP:20260425T143812
CREATED:20210831T081836Z
LAST-MODIFIED:20210831T081836Z
UID:9227-1642204800-1642377599@www.lifb.org
SUMMARY:AB1 CD 91
DESCRIPTION:
URL:https://www.lifb.org/evenement/ab1-cd-91/
CATEGORIES:Formations encadrants
END:VEVENT
BEGIN:VEVENT
DTSTART;VALUE=DATE:20220115
DTEND;VALUE=DATE:20220117
DTSTAMP:20260425T143812
CREATED:20210930T152648Z
LAST-MODIFIED:20210930T152648Z
UID:9567-1642204800-1642377599@www.lifb.org
SUMMARY:Examen Arbitre Ligue Accrédité
DESCRIPTION:
URL:https://www.lifb.org/evenement/examen-arbitre-ligue-accredite-3/
LOCATION:Eragny\, Eragny
CATEGORIES:Formations OT
END:VEVENT
BEGIN:VEVENT
DTSTART;VALUE=DATE:20220115
DTEND;VALUE=DATE:20220117
DTSTAMP:20260425T143812
CREATED:20211210T132926Z
LAST-MODIFIED:20211210T132926Z
UID:10234-1642204800-1642377599@www.lifb.org
SUMMARY:Formation Arbitre Ligue Accrédité
DESCRIPTION:
URL:https://www.lifb.org/evenement/formation-arbitre-ligue-accredite-4/
LOCATION:Gif sur Yvette\, Gif sur Yvette
CATEGORIES:Formations OT
END:VEVENT
BEGIN:VEVENT
DTSTART;VALUE=DATE:20220115
DTEND;VALUE=DATE:20220117
DTSTAMP:20260425T143812
CREATED:20210614T152634Z
LAST-MODIFIED:20210614T153359Z
UID:8439-1642204800-1642377599@www.lifb.org
SUMMARY:CQP Séquence 3
DESCRIPTION:
URL:https://www.lifb.org/evenement/cqp-sequence-3/
LOCATION:Fontenay-aux-Roses\, Fontenay-aux-Roses\, France
CATEGORIES:Formations encadrants
END:VEVENT
BEGIN:VEVENT
DTSTART;TZID=Europe/Paris:20220115T080000
DTEND;TZID=Europe/Paris:20220116T170000
DTSTAMP:20260425T143812
CREATED:20210906T135726Z
LAST-MODIFIED:20210906T135726Z
UID:9317-1642233600-1642352400@www.lifb.org
SUMMARY:Championnat France Parabad
DESCRIPTION:
URL:https://www.lifb.org/evenement/championnat-france-parabad/
CATEGORIES:Compétitions Ligue
END:VEVENT
BEGIN:VEVENT
DTSTART;TZID=Europe/Paris:20220115T080000
DTEND;TZID=Europe/Paris:20220116T210000
DTSTAMP:20260425T143812
CREATED:20210624T145039Z
LAST-MODIFIED:20210624T145139Z
UID:8693-1642233600-1642366800@www.lifb.org
SUMMARY:Tournoi Labellisé Jeunes n°2
DESCRIPTION:
URL:https://www.lifb.org/evenement/tournoi-labellise-jeunes-n2/
LOCATION:Inconnu\, Paris\, France
CATEGORIES:Compétitions Ligue
END:VEVENT
BEGIN:VEVENT
DTSTART;VALUE=DATE:20220117
DTEND;VALUE=DATE:20220120
DTSTAMP:20260425T143812
CREATED:20210706T140040Z
LAST-MODIFIED:20210706T140040Z
UID:8828-1642377600-1642636799@www.lifb.org
SUMMARY:DEJEPS 2021/2022
DESCRIPTION:
URL:https://www.lifb.org/evenement/dejeps-2021-2022-18/
CATEGORIES:Formations encadrants
END:VEVENT
BEGIN:VEVENT
DTSTART;VALUE=DATE:20220122
DTEND;VALUE=DATE:20220124
DTSTAMP:20260425T143812
CREATED:20211021T091141Z
LAST-MODIFIED:20211021T091141Z
UID:9737-1642809600-1642982399@www.lifb.org
SUMMARY:Formation AB2J
DESCRIPTION:
URL:https://www.lifb.org/evenement/formation-ab2j/
LOCATION:A définir
CATEGORIES:Formations encadrants
END:VEVENT
BEGIN:VEVENT
DTSTART;VALUE=DATE:20220122
DTEND;VALUE=DATE:20220124
DTSTAMP:20260425T143812
CREATED:20211210T133139Z
LAST-MODIFIED:20211210T133139Z
UID:10237-1642809600-1642982399@www.lifb.org
SUMMARY:Formation Arbitre Ligue Accrédité
DESCRIPTION:
URL:https://www.lifb.org/evenement/formation-arbitre-ligue-accredite-5/
LOCATION:Noisy le Grand\, Noisy le Grand
CATEGORIES:Formations OT
END:VEVENT
BEGIN:VEVENT
DTSTART;VALUE=DATE:20220124
DTEND;VALUE=DATE:20220126
DTSTAMP:20260425T143812
CREATED:20210706T140116Z
LAST-MODIFIED:20210706T140116Z
UID:8830-1642982400-1643155199@www.lifb.org
SUMMARY:DEJEPS 2021/2022
DESCRIPTION:
URL:https://www.lifb.org/evenement/dejeps-2021-2022-19/
CATEGORIES:Formations encadrants
END:VEVENT
BEGIN:VEVENT
DTSTART;VALUE=DATE:20220124
DTEND;VALUE=DATE:20220125
DTSTAMP:20260425T143812
CREATED:20211115T140430Z
LAST-MODIFIED:20211115T140430Z
UID:9938-1642982400-1643068799@www.lifb.org
SUMMARY:EB 1 CD 93/95
DESCRIPTION:
URL:https://www.lifb.org/evenement/eb-1-cd-93-95/
LOCATION:Ermont-Eaubonne
CATEGORIES:Formations encadrants
END:VEVENT
BEGIN:VEVENT
DTSTART;VALUE=DATE:20220129
DTEND;VALUE=DATE:20220130
DTSTAMP:20260425T143812
CREATED:20211115T140430Z
LAST-MODIFIED:20211115T140430Z
UID:9941-1643414400-1643500799@www.lifb.org
SUMMARY:EB 1 CD 93/95
DESCRIPTION:
URL:https://www.lifb.org/evenement/eb-1-cd-93-95-2022-01-29/
LOCATION:Ermont-Eaubonne
CATEGORIES:Formations encadrants
END:VEVENT
BEGIN:VEVENT
DTSTART;TZID=Europe/Paris:20220129T080000
DTEND;TZID=Europe/Paris:20220130T170000
DTSTAMP:20260425T143812
CREATED:20210906T141509Z
LAST-MODIFIED:20210906T141509Z
UID:9334-1643443200-1643562000@www.lifb.org
SUMMARY:ICN J6
DESCRIPTION:
URL:https://www.lifb.org/evenement/icn-j6/
CATEGORIES:Compétitions Ligue
END:VEVENT
BEGIN:VEVENT
DTSTART;VALUE=DATE:20220131
DTEND;VALUE=DATE:20220203
DTSTAMP:20260425T143812
CREATED:20210706T140158Z
LAST-MODIFIED:20210706T140158Z
UID:8832-1643587200-1643846399@www.lifb.org
SUMMARY:DEJEPS 2021/2022
DESCRIPTION:
URL:https://www.lifb.org/evenement/dejeps-2021-2022-20/
CATEGORIES:Formations encadrants
END:VEVENT
BEGIN:VEVENT
DTSTART;VALUE=DATE:20220131
DTEND;VALUE=DATE:20220201
DTSTAMP:20260425T143812
CREATED:20211115T140430Z
LAST-MODIFIED:20211115T140430Z
UID:9942-1643587200-1643673599@www.lifb.org
SUMMARY:EB 1 CD 93/95
DESCRIPTION:
URL:https://www.lifb.org/evenement/eb-1-cd-93-95-2022-01-31/
LOCATION:Ermont-Eaubonne
CATEGORIES:Formations encadrants
END:VEVENT
END:VCALENDAR