BEGIN:VCALENDAR
VERSION:2.0
PRODID:-//Ligue Île-de-France de Badminton - ECPv6.5.1.6//NONSGML v1.0//EN
CALSCALE:GREGORIAN
METHOD:PUBLISH
X-ORIGINAL-URL:https://www.lifb.org
X-WR-CALDESC:évènements pour Ligue Île-de-France de Badminton
REFRESH-INTERVAL;VALUE=DURATION:PT1H
X-Robots-Tag:noindex
X-PUBLISHED-TTL:PT1H
BEGIN:VTIMEZONE
TZID:Europe/Paris
BEGIN:DAYLIGHT
TZOFFSETFROM:+0100
TZOFFSETTO:+0200
TZNAME:CEST
DTSTART:20220327T010000
END:DAYLIGHT
BEGIN:STANDARD
TZOFFSETFROM:+0200
TZOFFSETTO:+0100
TZNAME:CET
DTSTART:20221030T010000
END:STANDARD
END:VTIMEZONE
BEGIN:VEVENT
DTSTART;VALUE=DATE:20221031
DTEND;VALUE=DATE:20221102
DTSTAMP:20260425T004554
CREATED:20220913T141020Z
LAST-MODIFIED:20221025T084412Z
UID:11998-1667174400-1667347199@www.lifb.org
SUMMARY:Formation EB1 - 95
DESCRIPTION:Plaquette EB1 saison 2022-2023
URL:https://www.lifb.org/evenement/formation-eb1-95/
LOCATION:Ermont-Eaubonne
CATEGORIES:Formations encadrants
END:VEVENT
BEGIN:VEVENT
DTSTART;VALUE=DATE:20221105
DTEND;VALUE=DATE:20221107
DTSTAMP:20260425T004554
CREATED:20220712T142531Z
LAST-MODIFIED:20220712T142531Z
UID:11702-1667606400-1667779199@www.lifb.org
SUMMARY:Examen Arbitre de Ligue Accrédité 91
DESCRIPTION:
URL:https://www.lifb.org/evenement/examen-arbitre-de-ligue-accredite-91/
LOCATION:Etrechy\, Etrechy
CATEGORIES:Formations OT
END:VEVENT
BEGIN:VEVENT
DTSTART;VALUE=DATE:20221105
DTEND;VALUE=DATE:20221107
DTSTAMP:20260425T004554
CREATED:20220712T142918Z
LAST-MODIFIED:20220712T142918Z
UID:11709-1667606400-1667779199@www.lifb.org
SUMMARY:Examen Arbitre de Ligue Certifié 91
DESCRIPTION:
URL:https://www.lifb.org/evenement/examen-arbitre-de-ligue-certifie-91/
LOCATION:Etrechy\, Etrechy
CATEGORIES:Formations OT
END:VEVENT
BEGIN:VEVENT
DTSTART;VALUE=DATE:20221105
DTEND;VALUE=DATE:20221107
DTSTAMP:20260425T004554
CREATED:20221025T110823Z
LAST-MODIFIED:20221025T110823Z
UID:12555-1667606400-1667779199@www.lifb.org
SUMMARY:CEJ n°1
DESCRIPTION:
URL:https://www.lifb.org/evenement/cej-n1/
LOCATION:Saint-Louis (Alsace)\, Saint-Louis\, France
CATEGORIES:Compétition Internationales
END:VEVENT
BEGIN:VEVENT
DTSTART;TZID=Europe/Paris:20221105T080000
DTEND;TZID=Europe/Paris:20221106T170000
DTSTAMP:20260425T004554
CREATED:20220628T084037Z
LAST-MODIFIED:20220628T084037Z
UID:11516-1667635200-1667754000@www.lifb.org
SUMMARY:TLJ n°1
DESCRIPTION:
URL:https://www.lifb.org/evenement/tlj-n1/
LOCATION:A définir
CATEGORIES:Compétitions Ligue
END:VEVENT
BEGIN:VEVENT
DTSTART;VALUE=DATE:20221112
DTEND;VALUE=DATE:20221113
DTSTAMP:20260425T004554
CREATED:20220712T141617Z
LAST-MODIFIED:20220712T141631Z
UID:11688-1668211200-1668297599@www.lifb.org
SUMMARY:Formation/Examen Juge de Ligne 95
DESCRIPTION:
URL:https://www.lifb.org/evenement/formation-juge-de-ligne-95/
LOCATION:Ezanville\, Ezanville
CATEGORIES:Formations OT
END:VEVENT
BEGIN:VEVENT
DTSTART;VALUE=DATE:20221112
DTEND;VALUE=DATE:20221114
DTSTAMP:20260425T004554
CREATED:20220913T141020Z
LAST-MODIFIED:20221025T084413Z
UID:12000-1668211200-1668383999@www.lifb.org
SUMMARY:Formation EB1 - 95
DESCRIPTION:Plaquette EB1 saison 2022-2023
URL:https://www.lifb.org/evenement/formation-eb1-95-2022-11-12/
LOCATION:Ermont-Eaubonne
CATEGORIES:Formations encadrants
END:VEVENT
BEGIN:VEVENT
DTSTART;TZID=Europe/Paris:20221112T080000
DTEND;TZID=Europe/Paris:20221113T170000
DTSTAMP:20260425T004554
CREATED:20220628T090116Z
LAST-MODIFIED:20220628T090116Z
UID:11550-1668240000-1668358800@www.lifb.org
SUMMARY:J2 Interclubs régionaux
DESCRIPTION:
URL:https://www.lifb.org/evenement/j2-interclubs-regionaux/
CATEGORIES:Compétitions Ligue
END:VEVENT
BEGIN:VEVENT
DTSTART;VALUE=DATE:20221117
DTEND;VALUE=DATE:20221121
DTSTAMP:20260425T004554
CREATED:20221025T121331Z
LAST-MODIFIED:20221025T121331Z
UID:12558-1668643200-1668988799@www.lifb.org
SUMMARY:Swedish Youth Games
DESCRIPTION:
URL:https://www.lifb.org/evenement/swedish-youth-games/
LOCATION:Malmö (Suède)\, Malmö\, Suède
CATEGORIES:Compétition Internationales
END:VEVENT
BEGIN:VEVENT
DTSTART;TZID=Europe/Paris:20221119T080000
DTEND;TZID=Europe/Paris:20221120T170000
DTSTAMP:20260425T004554
CREATED:20220628T090447Z
LAST-MODIFIED:20220628T090447Z
UID:11560-1668844800-1668963600@www.lifb.org
SUMMARY:Rattrapages n°1 - Interclubs régionaux
DESCRIPTION:
URL:https://www.lifb.org/evenement/rattrapages-n1-interclubs-regionaux/
CATEGORIES:Compétitions Ligue
END:VEVENT
BEGIN:VEVENT
DTSTART;VALUE=DATE:20221126
DTEND;VALUE=DATE:20221128
DTSTAMP:20260425T004554
CREATED:20220907T100622Z
LAST-MODIFIED:20221025T084643Z
UID:11919-1669420800-1669593599@www.lifb.org
SUMMARY:Formation MODEF - CD 91
DESCRIPTION:
URL:https://www.lifb.org/evenement/formation-modef-cd-91/
LOCATION:Mennecy\, Mennecy\, France
CATEGORIES:Formations encadrants
END:VEVENT
BEGIN:VEVENT
DTSTART;VALUE=DATE:20221126
DTEND;VALUE=DATE:20221128
DTSTAMP:20260425T004554
CREATED:20220907T100738Z
LAST-MODIFIED:20221025T084656Z
UID:11921-1669420800-1669593599@www.lifb.org
SUMMARY:Formation MODEF - CD 94
DESCRIPTION:
URL:https://www.lifb.org/evenement/formation-modef-cd-94/
LOCATION:Thiais\, Thiais
CATEGORIES:Formations encadrants
END:VEVENT
BEGIN:VEVENT
DTSTART;VALUE=DATE:20221126
DTEND;VALUE=DATE:20221128
DTSTAMP:20260425T004554
CREATED:20221024T090904Z
LAST-MODIFIED:20221024T090904Z
UID:12479-1669420800-1669593599@www.lifb.org
SUMMARY:Formation Arbitre de Ligue Accrédité 78
DESCRIPTION:
URL:https://www.lifb.org/evenement/formation-arbitre-de-ligue-accredite-78/
LOCATION:Montigny-le-Bretonneux\, Montigny-le-Bretonneux
CATEGORIES:Formations OT
END:VEVENT
BEGIN:VEVENT
DTSTART;TZID=Europe/Paris:20221126T080000
DTEND;TZID=Europe/Paris:20221127T170000
DTSTAMP:20260425T004554
CREATED:20220628T084159Z
LAST-MODIFIED:20220628T084159Z
UID:11518-1669449600-1669568400@www.lifb.org
SUMMARY:CRJ n°1
DESCRIPTION:
URL:https://www.lifb.org/evenement/crj-n1-2/
LOCATION:A définir
CATEGORIES:Compétitions Ligue
END:VEVENT
END:VCALENDAR