BEGIN:VCALENDAR
VERSION:2.0
PRODID:-//Ligue Île-de-France de Badminton - ECPv6.5.1.6//NONSGML v1.0//EN
CALSCALE:GREGORIAN
METHOD:PUBLISH
X-ORIGINAL-URL:https://www.lifb.org
X-WR-CALDESC:évènements pour Ligue Île-de-France de Badminton
REFRESH-INTERVAL;VALUE=DURATION:PT1H
X-Robots-Tag:noindex
X-PUBLISHED-TTL:PT1H
BEGIN:VTIMEZONE
TZID:Europe/Paris
BEGIN:DAYLIGHT
TZOFFSETFROM:+0100
TZOFFSETTO:+0200
TZNAME:CEST
DTSTART:20230326T010000
END:DAYLIGHT
BEGIN:STANDARD
TZOFFSETFROM:+0200
TZOFFSETTO:+0100
TZNAME:CET
DTSTART:20231029T010000
END:STANDARD
END:VTIMEZONE
BEGIN:VEVENT
DTSTART;VALUE=DATE:20230201
DTEND;VALUE=DATE:20230202
DTSTAMP:20260424T203219
CREATED:20221227T154046Z
LAST-MODIFIED:20221227T154046Z
UID:13039-1675209600-1675295999@www.lifb.org
SUMMARY:Certification des jeunes coachs
DESCRIPTION:
URL:https://www.lifb.org/evenement/certification-des-jeunes-coachs-2023-02-01/
LOCATION:Créteil
CATEGORIES:Développement
END:VEVENT
BEGIN:VEVENT
DTSTART;VALUE=DATE:20230202
DTEND;VALUE=DATE:20230206
DTSTAMP:20260424T203219
CREATED:20221227T154218Z
LAST-MODIFIED:20221227T154218Z
UID:13043-1675296000-1675641599@www.lifb.org
SUMMARY:Championnats de France Séniors
DESCRIPTION:
URL:https://www.lifb.org/evenement/championnats-de-france-seniors/
LOCATION:Rennes
CATEGORIES:Compétition Internationales
END:VEVENT
BEGIN:VEVENT
DTSTART;VALUE=DATE:20230204
DTEND;VALUE=DATE:20230206
DTSTAMP:20260424T203219
CREATED:20230116T154919Z
LAST-MODIFIED:20230116T155654Z
UID:13237-1675468800-1675641599@www.lifb.org
SUMMARY:Formation Arbitre de Ligue Accrédité 75
DESCRIPTION:
URL:https://www.lifb.org/evenement/formation-arbitre-de-ligue-accredite-75-2/
LOCATION:Paris 12e\, Paris\, 75012
CATEGORIES:Formations OT
END:VEVENT
BEGIN:VEVENT
DTSTART;VALUE=DATE:20230211
DTEND;VALUE=DATE:20230212
DTSTAMP:20260424T203219
CREATED:20220810T080613Z
LAST-MODIFIED:20220810T080613Z
UID:11785-1676073600-1676159999@www.lifb.org
SUMMARY:Formation/Examen Juge de Ligne Accrédité 94
DESCRIPTION:
URL:https://www.lifb.org/evenement/formation-examen-juge-de-ligne-accredite-94/
LOCATION:Saint-Maur-des-Fossés\, Saint-Maur-des-Fossés\, France
CATEGORIES:Formations OT
END:VEVENT
BEGIN:VEVENT
DTSTART;VALUE=DATE:20230211
DTEND;VALUE=DATE:20230213
DTSTAMP:20260424T203219
CREATED:20220907T101201Z
LAST-MODIFIED:20221025T084354Z
UID:11929-1676073600-1676246399@www.lifb.org
SUMMARY:Formation AB1 - CD 91
DESCRIPTION:
URL:https://www.lifb.org/evenement/formation-ab1-cd-91-2023-02-11/
LOCATION:Mennecy\, Mennecy\, France
CATEGORIES:Formations encadrants
END:VEVENT
BEGIN:VEVENT
DTSTART;TZID=Europe/Paris:20230211T080000
DTEND;TZID=Europe/Paris:20230212T170000
DTSTAMP:20260424T203219
CREATED:20220628T084615Z
LAST-MODIFIED:20220628T084615Z
UID:11532-1676102400-1676221200@www.lifb.org
SUMMARY:CIJ n°3
DESCRIPTION:
URL:https://www.lifb.org/evenement/cij-n3/
LOCATION:A définir
CATEGORIES:Compétitions Ligue
END:VEVENT
BEGIN:VEVENT
DTSTART;TZID=Europe/Paris:20230211T080000
DTEND;TZID=Europe/Paris:20230212T170000
DTSTAMP:20260424T203219
CREATED:20220628T090235Z
LAST-MODIFIED:20220628T090235Z
UID:11554-1676102400-1676221200@www.lifb.org
SUMMARY:J4 Interclubs régionaux
DESCRIPTION:
URL:https://www.lifb.org/evenement/j4-interclubs-regionaux/
CATEGORIES:Compétitions Ligue
END:VEVENT
BEGIN:VEVENT
DTSTART;VALUE=DATE:20230218
DTEND;VALUE=DATE:20230220
DTSTAMP:20260424T203219
CREATED:20220712T142333Z
LAST-MODIFIED:20220712T142333Z
UID:11700-1676678400-1676851199@www.lifb.org
SUMMARY:Formation Arbitre de Ligue Accrédité 95
DESCRIPTION:
URL:https://www.lifb.org/evenement/formation-arbitre-de-ligue-accredite-95/
LOCATION:Herblay\, Herblay
CATEGORIES:Formations OT
END:VEVENT
BEGIN:VEVENT
DTSTART;VALUE=DATE:20230218
DTEND;VALUE=DATE:20230220
DTSTAMP:20260424T203219
CREATED:20221024T094440Z
LAST-MODIFIED:20221025T084242Z
UID:12501-1676678400-1676851199@www.lifb.org
SUMMARY:Formation EB1 - CD 93
DESCRIPTION:
URL:https://www.lifb.org/evenement/formation-eb1-cd-93/
LOCATION:A définir
CATEGORIES:Formations encadrants
END:VEVENT
BEGIN:VEVENT
DTSTART;TZID=Europe/Paris:20230218T080000
DTEND;TZID=Europe/Paris:20230219T170000
DTSTAMP:20260424T203219
CREATED:20220628T090524Z
LAST-MODIFIED:20220628T090524Z
UID:11562-1676707200-1676826000@www.lifb.org
SUMMARY:Rattrapages n°2 - Interclubs régionaux
DESCRIPTION:
URL:https://www.lifb.org/evenement/rattrapages-n2-interclubs-regionaux/
CATEGORIES:Compétitions Ligue
END:VEVENT
BEGIN:VEVENT
DTSTART;VALUE=DATE:20230224
DTEND;VALUE=DATE:20230227
DTSTAMP:20260424T203219
CREATED:20221227T154350Z
LAST-MODIFIED:20221227T154350Z
UID:13051-1677196800-1677455999@www.lifb.org
SUMMARY:Italian Junior
DESCRIPTION:
URL:https://www.lifb.org/evenement/italian-junior/
LOCATION:Milan (Italie)\, France
CATEGORIES:Compétition Internationales
END:VEVENT
BEGIN:VEVENT
DTSTART;VALUE=DATE:20230225
DTEND;VALUE=DATE:20230227
DTSTAMP:20260424T203219
CREATED:20230116T155213Z
LAST-MODIFIED:20230911T135116Z
UID:13239-1677283200-1677455999@www.lifb.org
SUMMARY:Formation GEO 77
DESCRIPTION:
URL:https://www.lifb.org/evenement/formation-geo-77-2/
LOCATION:Bailly-Romainviliers\, Bailly-Romainviliers\, 77
CATEGORIES:Formations GEO
END:VEVENT
END:VCALENDAR