BEGIN:VCALENDAR
VERSION:2.0
PRODID:-//Ligue Île-de-France de Badminton - ECPv6.5.1.6//NONSGML v1.0//EN
CALSCALE:GREGORIAN
METHOD:PUBLISH
X-ORIGINAL-URL:https://www.lifb.org
X-WR-CALDESC:évènements pour Ligue Île-de-France de Badminton
REFRESH-INTERVAL;VALUE=DURATION:PT1H
X-Robots-Tag:noindex
X-PUBLISHED-TTL:PT1H
BEGIN:VTIMEZONE
TZID:Europe/Paris
BEGIN:DAYLIGHT
TZOFFSETFROM:+0100
TZOFFSETTO:+0200
TZNAME:CEST
DTSTART:20230326T010000
END:DAYLIGHT
BEGIN:STANDARD
TZOFFSETFROM:+0200
TZOFFSETTO:+0100
TZNAME:CET
DTSTART:20231029T010000
END:STANDARD
END:VTIMEZONE
BEGIN:VEVENT
DTSTART;VALUE=DATE:20230902
DTEND;VALUE=DATE:20230904
DTSTAMP:20260424T111336
CREATED:20230824T141000Z
LAST-MODIFIED:20230911T133710Z
UID:15402-1693612800-1693785599@www.lifb.org
SUMMARY:MODEF 95
DESCRIPTION:
URL:https://www.lifb.org/evenement/modef-95/
LOCATION:Ermont
CATEGORIES:Formations encadrants
END:VEVENT
BEGIN:VEVENT
DTSTART;VALUE=DATE:20230902
DTEND;VALUE=DATE:20230903
DTSTAMP:20260424T111336
CREATED:20230816T132325Z
LAST-MODIFIED:20230817T073750Z
UID:15321-1693612800-1693699199@www.lifb.org
SUMMARY:Bad'Tour Ermont Forum des Assos
DESCRIPTION:
URL:https://www.lifb.org/evenement/badtour-forum-des-assos/
LOCATION:Ermont
CATEGORIES:Développement
END:VEVENT
BEGIN:VEVENT
DTSTART;VALUE=DATE:20230903
DTEND;VALUE=DATE:20230904
DTSTAMP:20260424T111336
CREATED:20230817T071506Z
LAST-MODIFIED:20230817T071914Z
UID:15327-1693699200-1693785599@www.lifb.org
SUMMARY:Bad'Tour Forum des Assos USB Badminton
DESCRIPTION:
URL:https://www.lifb.org/evenement/forum-des-assos-usb-badminton/
LOCATION:Bois Le Roi\, Bois Le Roi\, 77590\, France
CATEGORIES:Développement
END:VEVENT
BEGIN:VEVENT
DTSTART;VALUE=DATE:20230909
DTEND;VALUE=DATE:20230911
DTSTAMP:20260424T111336
CREATED:20230629T125431Z
LAST-MODIFIED:20230906T145043Z
UID:14918-1694217600-1694390399@www.lifb.org
SUMMARY:Top Élite Régional
DESCRIPTION:
URL:https://www.lifb.org/evenement/top-elite-regional-simple/
LOCATION:Ermont
CATEGORIES:Compétitions Ligue
END:VEVENT
BEGIN:VEVENT
DTSTART;VALUE=DATE:20230909
DTEND;VALUE=DATE:20230910
DTSTAMP:20260424T111336
CREATED:20230817T072125Z
LAST-MODIFIED:20230817T072241Z
UID:15331-1694217600-1694303999@www.lifb.org
SUMMARY:Bad'Tour L'Herblaisienne Forum des Assos
DESCRIPTION:
URL:https://www.lifb.org/evenement/badtour-lherblaisienne-forum-des-assos/
LOCATION:Herblay\, Herblay
CATEGORIES:Développement
END:VEVENT
BEGIN:VEVENT
DTSTART;VALUE=DATE:20230909
DTEND;VALUE=DATE:20230910
DTSTAMP:20260424T111336
CREATED:20230817T072602Z
LAST-MODIFIED:20230817T072602Z
UID:15333-1694217600-1694303999@www.lifb.org
SUMMARY:Bad'Tour ES Stains Forum des Assos
DESCRIPTION:
URL:https://www.lifb.org/evenement/badtour-es-stains-forum-des-assos/
LOCATION:Stains\, Stains\, 93072\, France
CATEGORIES:Développement
END:VEVENT
BEGIN:VEVENT
DTSTART;VALUE=DATE:20230922
DTEND;VALUE=DATE:20230925
DTSTAMP:20260424T111336
CREATED:20230911T142054Z
LAST-MODIFIED:20230911T142054Z
UID:15605-1695340800-1695599999@www.lifb.org
SUMMARY:YONEX Belgian Junior 2023 U19
DESCRIPTION:
URL:https://www.lifb.org/evenement/yonex-belgian-junior-2023-u19/
LOCATION:Herstal\, Herstal\, Belgique
CATEGORIES:Compétition Internationales
END:VEVENT
BEGIN:VEVENT
DTSTART;VALUE=DATE:20230923
DTEND;VALUE=DATE:20230925
DTSTAMP:20260424T111336
CREATED:20230824T140422Z
LAST-MODIFIED:20230915T123112Z
UID:15394-1695427200-1695599999@www.lifb.org
SUMMARY:Formation GEO 1 - 94
DESCRIPTION:
URL:https://www.lifb.org/evenement/formation-geo-94-4/
LOCATION:Vincennes\, Vincennes
CATEGORIES:Formations GEO
END:VEVENT
BEGIN:VEVENT
DTSTART;VALUE=DATE:20230923
DTEND;VALUE=DATE:20230925
DTSTAMP:20260424T111336
CREATED:20230824T140514Z
LAST-MODIFIED:20230915T123255Z
UID:15396-1695427200-1695599999@www.lifb.org
SUMMARY:Formation GEO 1 - 77
DESCRIPTION:
URL:https://www.lifb.org/evenement/formation-geo-77-3/
LOCATION:Melun\, Melun
CATEGORIES:Formations GEO
END:VEVENT
BEGIN:VEVENT
DTSTART;VALUE=DATE:20230923
DTEND;VALUE=DATE:20230925
DTSTAMP:20260424T111336
CREATED:20230915T120726Z
LAST-MODIFIED:20230915T123359Z
UID:15741-1695427200-1695599999@www.lifb.org
SUMMARY:Formation Arbitre de Ligue Accrédité - 92
DESCRIPTION:
URL:https://www.lifb.org/evenement/formation-arbitre-de-ligue-accredite-92-2/
LOCATION:Chaville\, CHAVILLE
CATEGORIES:Formations OT
END:VEVENT
BEGIN:VEVENT
DTSTART;VALUE=DATE:20230925
DTEND;VALUE=DATE:20230930
DTSTAMP:20260424T111336
CREATED:20230912T081301Z
LAST-MODIFIED:20230912T081301Z
UID:15651-1695600000-1696031999@www.lifb.org
SUMMARY:Semaine du Sport à l'Hôpital
DESCRIPTION:
URL:https://www.lifb.org/evenement/semaine-du-sport-a-lhopital/
CATEGORIES:Développement
END:VEVENT
BEGIN:VEVENT
DTSTART;VALUE=DATE:20230926
DTEND;VALUE=DATE:20230927
DTSTAMP:20260424T111336
CREATED:20230817T073020Z
LAST-MODIFIED:20230817T073020Z
UID:15336-1695686400-1695772799@www.lifb.org
SUMMARY:Bad'Tour 60 ans EPS Barthélémy Durand
DESCRIPTION:
URL:https://www.lifb.org/evenement/badtour-60-ans-eps-barthelemy-durand/
CATEGORIES:Développement
END:VEVENT
BEGIN:VEVENT
DTSTART;VALUE=DATE:20230929
DTEND;VALUE=DATE:20230930
DTSTAMP:20260424T111336
CREATED:20230912T081011Z
LAST-MODIFIED:20230912T082529Z
UID:15646-1695945600-1696031999@www.lifb.org
SUMMARY:Intervention à l'Institut Curie - Paris (75)
DESCRIPTION:
URL:https://www.lifb.org/evenement/intervention-a-linstitut-curie-75/
LOCATION:Paris\, PARIS\, 75000
CATEGORIES:Développement
END:VEVENT
BEGIN:VEVENT
DTSTART;VALUE=DATE:20230930
DTEND;VALUE=DATE:20231002
DTSTAMP:20260424T111336
CREATED:20230824T140723Z
LAST-MODIFIED:20230915T122731Z
UID:15398-1696032000-1696204799@www.lifb.org
SUMMARY:Formation GEO 1 - 75
DESCRIPTION:
URL:https://www.lifb.org/evenement/formation-geo-75-3/
LOCATION:Paris 17e\, Paris\, 75017
CATEGORIES:Formations GEO
END:VEVENT
BEGIN:VEVENT
DTSTART;VALUE=DATE:20230930
DTEND;VALUE=DATE:20231002
DTSTAMP:20260424T111336
CREATED:20230906T142501Z
LAST-MODIFIED:20230915T122829Z
UID:15519-1696032000-1696204799@www.lifb.org
SUMMARY:Formation GEO 1 - 91
DESCRIPTION:
URL:https://www.lifb.org/evenement/formation-geo-1-91/
LOCATION:Mennecy\, Mennecy\, France
CATEGORIES:Formations GEO
END:VEVENT
BEGIN:VEVENT
DTSTART;VALUE=DATE:20230930
DTEND;VALUE=DATE:20231002
DTSTAMP:20260424T111336
CREATED:20230911T142713Z
LAST-MODIFIED:20230911T142713Z
UID:15608-1696032000-1696204799@www.lifb.org
SUMMARY:Eco-Tournoi International d'Aire-sur-la-Lys
DESCRIPTION:
URL:https://www.lifb.org/evenement/eco-tournoi-international-daire-sur-la-lys/
LOCATION:Aire-sur-la-Lys (62)\, Aire-sur-la-Lys
CATEGORIES:Compétition Internationales
END:VEVENT
END:VCALENDAR