BEGIN:VCALENDAR
VERSION:2.0
PRODID:-//Ligue Île-de-France de Badminton - ECPv6.5.1.6//NONSGML v1.0//EN
CALSCALE:GREGORIAN
METHOD:PUBLISH
X-WR-CALNAME:Ligue Île-de-France de Badminton
X-ORIGINAL-URL:https://www.lifb.org
X-WR-CALDESC:évènements pour Ligue Île-de-France de Badminton
REFRESH-INTERVAL;VALUE=DURATION:PT1H
X-Robots-Tag:noindex
X-PUBLISHED-TTL:PT1H
BEGIN:VTIMEZONE
TZID:Europe/Paris
BEGIN:DAYLIGHT
TZOFFSETFROM:+0100
TZOFFSETTO:+0200
TZNAME:CEST
DTSTART:20230326T010000
END:DAYLIGHT
BEGIN:STANDARD
TZOFFSETFROM:+0200
TZOFFSETTO:+0100
TZNAME:CET
DTSTART:20231029T010000
END:STANDARD
END:VTIMEZONE
BEGIN:VEVENT
DTSTART;VALUE=DATE:20230930
DTEND;VALUE=DATE:20231002
DTSTAMP:20260424T095054
CREATED:20230824T140723Z
LAST-MODIFIED:20230915T122731Z
UID:15398-1696032000-1696204799@www.lifb.org
SUMMARY:Formation GEO 1 - 75
DESCRIPTION:
URL:https://www.lifb.org/evenement/formation-geo-75-3/
LOCATION:Paris 17e\, Paris\, 75017
CATEGORIES:Formations GEO
END:VEVENT
BEGIN:VEVENT
DTSTART;VALUE=DATE:20230930
DTEND;VALUE=DATE:20231002
DTSTAMP:20260424T095054
CREATED:20230906T142501Z
LAST-MODIFIED:20230915T122829Z
UID:15519-1696032000-1696204799@www.lifb.org
SUMMARY:Formation GEO 1 - 91
DESCRIPTION:
URL:https://www.lifb.org/evenement/formation-geo-1-91/
LOCATION:Mennecy\, Mennecy\, France
CATEGORIES:Formations GEO
END:VEVENT
BEGIN:VEVENT
DTSTART;VALUE=DATE:20230930
DTEND;VALUE=DATE:20231002
DTSTAMP:20260424T095054
CREATED:20230911T142713Z
LAST-MODIFIED:20230911T142713Z
UID:15608-1696032000-1696204799@www.lifb.org
SUMMARY:Eco-Tournoi International d'Aire-sur-la-Lys
DESCRIPTION:
URL:https://www.lifb.org/evenement/eco-tournoi-international-daire-sur-la-lys/
LOCATION:Aire-sur-la-Lys (62)\, Aire-sur-la-Lys
CATEGORIES:Compétition Internationales
END:VEVENT
BEGIN:VEVENT
DTSTART;VALUE=DATE:20231003
DTEND;VALUE=DATE:20231004
DTSTAMP:20260424T095054
CREATED:20230912T081142Z
LAST-MODIFIED:20230912T081142Z
UID:15648-1696291200-1696377599@www.lifb.org
SUMMARY:Intervention à l'Hôpital Ambroise-Paré - Boulogne (92)
DESCRIPTION:
URL:https://www.lifb.org/evenement/intervention-a-lhopital-ambroise-pare-boulogne-92/
LOCATION:Boulogne-Billancourt\, Boulogne-Billancourt\, 92100
END:VEVENT
BEGIN:VEVENT
DTSTART;VALUE=DATE:20231005
DTEND;VALUE=DATE:20231009
DTSTAMP:20260424T095054
CREATED:20230911T142838Z
LAST-MODIFIED:20230911T142838Z
UID:15610-1696464000-1696809599@www.lifb.org
SUMMARY:Croatia VALAMAR Junior Open 2023
DESCRIPTION:
URL:https://www.lifb.org/evenement/croatia-valamar-junior-open-2023/
LOCATION:Dubrovnik\, Dubrovnik\, Croatie (Nom local : Hrvatska)
CATEGORIES:Compétition Internationales
END:VEVENT
BEGIN:VEVENT
DTSTART;VALUE=DATE:20231007
DTEND;VALUE=DATE:20231009
DTSTAMP:20260424T095054
CREATED:20230629T133146Z
LAST-MODIFIED:20230629T133146Z
UID:14963-1696636800-1696809599@www.lifb.org
SUMMARY:ICR - Journée n°1
DESCRIPTION:
URL:https://www.lifb.org/evenement/icr-journee-n1/
CATEGORIES:Compétitions Ligue
END:VEVENT
BEGIN:VEVENT
DTSTART;VALUE=DATE:20231007
DTEND;VALUE=DATE:20231008
DTSTAMP:20260424T095054
CREATED:20231003T150818Z
LAST-MODIFIED:20231003T150818Z
UID:16121-1696636800-1696723199@www.lifb.org
SUMMARY:Formation Juge de Ligne - 75
DESCRIPTION:
URL:https://www.lifb.org/evenement/formation-juge-de-ligne-75/
LOCATION:Paris 17e\, Paris\, 75017
CATEGORIES:Formations OT
END:VEVENT
BEGIN:VEVENT
DTSTART;VALUE=DATE:20231011
DTEND;VALUE=DATE:20231016
DTSTAMP:20260424T095054
CREATED:20230911T142934Z
LAST-MODIFIED:20230911T142934Z
UID:15613-1696982400-1697414399@www.lifb.org
SUMMARY:YONEX German Ruhr U19 - U17 U15 International 2023
DESCRIPTION:
URL:https://www.lifb.org/evenement/yonex-german-ruhr-u19-u17-u15-international-2023/
LOCATION:Mülheim\, Mülheim\, Allemagne
CATEGORIES:Compétition Internationales
END:VEVENT
BEGIN:VEVENT
DTSTART;VALUE=DATE:20231014
DTEND;VALUE=DATE:20231016
DTSTAMP:20260424T095054
CREATED:20230915T124557Z
LAST-MODIFIED:20230915T124816Z
UID:15749-1697241600-1697414399@www.lifb.org
SUMMARY:Formation GEO 1 - 95
DESCRIPTION:
URL:https://www.lifb.org/evenement/formation-geo-1-95-2/
LOCATION:Eaubonne\, Eaubonne
CATEGORIES:Formations GEO
END:VEVENT
BEGIN:VEVENT
DTSTART;VALUE=DATE:20231017
DTEND;VALUE=DATE:20231018
DTSTAMP:20260424T095054
CREATED:20230912T080703Z
LAST-MODIFIED:20230912T080734Z
UID:15638-1697500800-1697587199@www.lifb.org
SUMMARY:Du Stade vers l'Emploi - Paris 17
DESCRIPTION:
URL:https://www.lifb.org/evenement/du-stade-vers-lemploi-paris-17/
LOCATION:Paris 17e\, Paris\, 75017
CATEGORIES:Développement
END:VEVENT
BEGIN:VEVENT
DTSTART;VALUE=DATE:20231020
DTEND;VALUE=DATE:20231023
DTSTAMP:20260424T095054
CREATED:20230911T143024Z
LAST-MODIFIED:20230911T143024Z
UID:15616-1697760000-1698019199@www.lifb.org
SUMMARY:Circuit Élite Jeunes n°1
DESCRIPTION:
URL:https://www.lifb.org/evenement/circuit-elite-jeunes-n1/
LOCATION:Saint-Louis (Alsace)\, Saint-Louis\, France
CATEGORIES:Compétition Internationales
END:VEVENT
BEGIN:VEVENT
DTSTART;VALUE=DATE:20231020
DTEND;VALUE=DATE:20231023
DTSTAMP:20260424T095054
CREATED:20230913T145939Z
LAST-MODIFIED:20230913T145939Z
UID:15688-1697760000-1698019199@www.lifb.org
SUMMARY:Circuit Élite Jeunes n°1
DESCRIPTION:
URL:https://www.lifb.org/evenement/circuit-elite-jeunes-n1-2/
CATEGORIES:Compétition Internationales
END:VEVENT
BEGIN:VEVENT
DTSTART;VALUE=DATE:20231021
DTEND;VALUE=DATE:20231023
DTSTAMP:20260424T095054
CREATED:20230906T142241Z
LAST-MODIFIED:20231023T074056Z
UID:15516-1697846400-1698019199@www.lifb.org
SUMMARY:Examen Arbitre de Ligue Accrédité - 78
DESCRIPTION:
URL:https://www.lifb.org/evenement/formation-arbitre-de-ligue-accredite-78-2/
LOCATION:Maison-Lafitte\, Maison-Lafitte
CATEGORIES:Formations OT
END:VEVENT
BEGIN:VEVENT
DTSTART;VALUE=DATE:20231021
DTEND;VALUE=DATE:20231023
DTSTAMP:20260424T095054
CREATED:20230906T144043Z
LAST-MODIFIED:20230915T123928Z
UID:15526-1697846400-1698019199@www.lifb.org
SUMMARY:Formation GEO 1 - 93
DESCRIPTION:
URL:https://www.lifb.org/evenement/formation-geo-1-93/
LOCATION:Saint-Ouen\, Saint-Ouen
CATEGORIES:Formations GEO
END:VEVENT
BEGIN:VEVENT
DTSTART;VALUE=DATE:20231024
DTEND;VALUE=DATE:20231030
DTSTAMP:20260424T095054
CREATED:20230911T143342Z
LAST-MODIFIED:20230911T143342Z
UID:15620-1698105600-1698623999@www.lifb.org
SUMMARY:YONEX Internationaux de France de Badminton
DESCRIPTION:
URL:https://www.lifb.org/evenement/yonex-internationaux-de-france-de-badminton/
LOCATION:Cesson-Sévigné\, Cesson-Sévigné\, 35510\, France
CATEGORIES:Compétition Internationales
END:VEVENT
BEGIN:VEVENT
DTSTART;VALUE=DATE:20231024
DTEND;VALUE=DATE:20231025
DTSTAMP:20260424T095054
CREATED:20230912T080837Z
LAST-MODIFIED:20231018T125242Z
UID:15641-1698105600-1698191999@www.lifb.org
SUMMARY:Du Stade vers l'Emploi - Bailly-Romainvilliers (77)
DESCRIPTION:
URL:https://www.lifb.org/evenement/du-stade-vers-lemploi-bailly-romainvilliers-77/
LOCATION:Bailly-Romainvilliers\, Bailly-Romainvilliers\, 77700\, France
CATEGORIES:Développement
END:VEVENT
BEGIN:VEVENT
DTSTART;VALUE=DATE:20231026
DTEND;VALUE=DATE:20231027
DTSTAMP:20260424T095054
CREATED:20230912T082408Z
LAST-MODIFIED:20230912T082408Z
UID:15653-1698278400-1698364799@www.lifb.org
SUMMARY:Projet Entourage
DESCRIPTION:
URL:https://www.lifb.org/evenement/projet-entourage/
LOCATION:Paris 18e\, Paris\, 75018\, France
CATEGORIES:Développement
END:VEVENT
BEGIN:VEVENT
DTSTART;VALUE=DATE:20231027
DTEND;VALUE=DATE:20231028
DTSTAMP:20260424T095054
CREATED:20230912T080927Z
LAST-MODIFIED:20230912T080927Z
UID:15644-1698364800-1698451199@www.lifb.org
SUMMARY:Du Stade vers l'Emploi - Saint-Maur (94)
DESCRIPTION:
URL:https://www.lifb.org/evenement/du-stade-vers-lemploi-saint-maur-94/
LOCATION:Saint-Maur-des-Fossés\, Saint-Maur-des-Fossés\, France
CATEGORIES:Développement
END:VEVENT
BEGIN:VEVENT
DTSTART;VALUE=DATE:20231028
DTEND;VALUE=DATE:20231030
DTSTAMP:20260424T095054
CREATED:20230629T125731Z
LAST-MODIFIED:20230719T135020Z
UID:14921-1698451200-1698623999@www.lifb.org
SUMMARY:Tournoi Labellisé Jeunes n°1
DESCRIPTION:
URL:https://www.lifb.org/evenement/tournoi-labellise-jeunes-n1-2/
LOCATION:Ermont
CATEGORIES:Compétitions Ligue
END:VEVENT
END:VCALENDAR