BEGIN:VCALENDAR
VERSION:2.0
PRODID:-//Ligue Île-de-France de Badminton - ECPv6.5.1.6//NONSGML v1.0//EN
CALSCALE:GREGORIAN
METHOD:PUBLISH
X-ORIGINAL-URL:https://www.lifb.org
X-WR-CALDESC:évènements pour Ligue Île-de-France de Badminton
REFRESH-INTERVAL;VALUE=DURATION:PT1H
X-Robots-Tag:noindex
X-PUBLISHED-TTL:PT1H
BEGIN:VTIMEZONE
TZID:Europe/Paris
BEGIN:DAYLIGHT
TZOFFSETFROM:+0100
TZOFFSETTO:+0200
TZNAME:CEST
DTSTART:20230326T010000
END:DAYLIGHT
BEGIN:STANDARD
TZOFFSETFROM:+0200
TZOFFSETTO:+0100
TZNAME:CET
DTSTART:20231029T010000
END:STANDARD
END:VTIMEZONE
BEGIN:VEVENT
DTSTART;VALUE=DATE:20231111
DTEND;VALUE=DATE:20231113
DTSTAMP:20260424T082827
CREATED:20230915T120559Z
LAST-MODIFIED:20230915T124008Z
UID:15738-1699660800-1699833599@www.lifb.org
SUMMARY:Examen Arbitre de Ligue Accrédité - 75
DESCRIPTION:
URL:https://www.lifb.org/evenement/examen-arbitre-de-ligue-accredite-75-2/
LOCATION:Paris 17e\, Paris\, 75017
CATEGORIES:Formations OT
END:VEVENT
BEGIN:VEVENT
DTSTART;VALUE=DATE:20231111
DTEND;VALUE=DATE:20231113
DTSTAMP:20260424T082827
CREATED:20231016T095403Z
LAST-MODIFIED:20231016T095403Z
UID:16229-1699660800-1699833599@www.lifb.org
SUMMARY:Formation MODEF - 78
DESCRIPTION:
URL:https://www.lifb.org/evenement/formation-modef-78/
LOCATION:A définir
CATEGORIES:Formations encadrants
END:VEVENT
BEGIN:VEVENT
DTSTART;VALUE=DATE:20231116
DTEND;VALUE=DATE:20231120
DTSTAMP:20260424T082827
CREATED:20230911T143443Z
LAST-MODIFIED:20230911T143443Z
UID:15623-1700092800-1700438399@www.lifb.org
SUMMARY:Czech Junior 2023
DESCRIPTION:
URL:https://www.lifb.org/evenement/czech-junior-2023/
LOCATION:Orlova\, Orlova\, République Tchèque
CATEGORIES:Compétition Internationales
END:VEVENT
BEGIN:VEVENT
DTSTART;VALUE=DATE:20231117
DTEND;VALUE=DATE:20231120
DTSTAMP:20260424T082827
CREATED:20230911T143518Z
LAST-MODIFIED:20230911T143518Z
UID:15626-1700179200-1700438399@www.lifb.org
SUMMARY:Swedish Youth Games 2023
DESCRIPTION:
URL:https://www.lifb.org/evenement/swedish-youth-games-2023/
LOCATION:Malmö (Suède)\, Malmö\, Suède
CATEGORIES:Compétition Internationales
END:VEVENT
BEGIN:VEVENT
DTSTART;VALUE=DATE:20231118
DTEND;VALUE=DATE:20231120
DTSTAMP:20260424T082827
CREATED:20230629T125834Z
LAST-MODIFIED:20230913T144749Z
UID:14923-1700265600-1700438399@www.lifb.org
SUMMARY:Circuit Régional Jeunes n°1
DESCRIPTION:
URL:https://www.lifb.org/evenement/circuit-regional-jeunes-n1/
LOCATION:Jouy Le Moutier\, Jouy le Moutier
CATEGORIES:Compétitions Ligue
END:VEVENT
BEGIN:VEVENT
DTSTART;VALUE=DATE:20231118
DTEND;VALUE=DATE:20231120
DTSTAMP:20260424T082827
CREATED:20231003T145928Z
LAST-MODIFIED:20231003T145928Z
UID:16107-1700265600-1700438399@www.lifb.org
SUMMARY:Formation Arbitre de Ligue Accrédité - 93
DESCRIPTION:
URL:https://www.lifb.org/evenement/formation-arbitre-de-ligue-accredite-93-2/
LOCATION:Villemomble\, Villemomble\, France
CATEGORIES:Formations OT
END:VEVENT
BEGIN:VEVENT
DTSTART;VALUE=DATE:20231118
DTEND;VALUE=DATE:20231120
DTSTAMP:20260424T082827
CREATED:20231003T150129Z
LAST-MODIFIED:20231003T150129Z
UID:16109-1700265600-1700438399@www.lifb.org
SUMMARY:Formation MODEF - 94
DESCRIPTION:
URL:https://www.lifb.org/evenement/formation-modef-94/
LOCATION:Thiais\, Thiais
CATEGORIES:Formations encadrants
END:VEVENT
BEGIN:VEVENT
DTSTART;VALUE=DATE:20231118
DTEND;VALUE=DATE:20231120
DTSTAMP:20260424T082827
CREATED:20231003T150229Z
LAST-MODIFIED:20231003T150229Z
UID:16111-1700265600-1700438399@www.lifb.org
SUMMARY:Formation MODEF - 91
DESCRIPTION:
URL:https://www.lifb.org/evenement/formation-modef-91/
LOCATION:Mennecy\, Mennecy\, France
CATEGORIES:Formations encadrants
END:VEVENT
BEGIN:VEVENT
DTSTART;VALUE=DATE:20231118
DTEND;VALUE=DATE:20231120
DTSTAMP:20260424T082827
CREATED:20231003T150436Z
LAST-MODIFIED:20231003T150723Z
UID:16114-1700265600-1700438399@www.lifb.org
SUMMARY:Formation FIT'Minton - 44
DESCRIPTION:
URL:https://www.lifb.org/evenement/formation-fitminton-44/
LOCATION:La-Chapelle-sur-Erdre\, La-Chapelle-sur-Erdre\, 44\, France
CATEGORIES:Formations encadrants
END:VEVENT
BEGIN:VEVENT
DTSTART;VALUE=DATE:20231124
DTEND;VALUE=DATE:20231127
DTSTAMP:20260424T082827
CREATED:20230911T143610Z
LAST-MODIFIED:20230911T143610Z
UID:15628-1700784000-1701043199@www.lifb.org
SUMMARY:III U17 Portugal Open 2023
DESCRIPTION:
URL:https://www.lifb.org/evenement/iii-u17-portugal-open-2023/
LOCATION:Caldas da Rainha\, Caldas da Rainha\, Portugal
CATEGORIES:Compétition Internationales
END:VEVENT
BEGIN:VEVENT
DTSTART;VALUE=DATE:20231125
DTEND;VALUE=DATE:20231127
DTSTAMP:20260424T082827
CREATED:20230629T133259Z
LAST-MODIFIED:20230629T133259Z
UID:14964-1700870400-1701043199@www.lifb.org
SUMMARY:ICR - Journée n°2
DESCRIPTION:
URL:https://www.lifb.org/evenement/icr-journee-n2/
CATEGORIES:Compétitions Ligue
END:VEVENT
END:VCALENDAR