BEGIN:VCALENDAR
VERSION:2.0
PRODID:-//Ligue Île-de-France de Badminton - ECPv6.5.1.6//NONSGML v1.0//EN
CALSCALE:GREGORIAN
METHOD:PUBLISH
X-ORIGINAL-URL:https://www.lifb.org
X-WR-CALDESC:évènements pour Ligue Île-de-France de Badminton
REFRESH-INTERVAL;VALUE=DURATION:PT1H
X-Robots-Tag:noindex
X-PUBLISHED-TTL:PT1H
BEGIN:VTIMEZONE
TZID:Europe/Paris
BEGIN:DAYLIGHT
TZOFFSETFROM:+0100
TZOFFSETTO:+0200
TZNAME:CEST
DTSTART:20240331T010000
END:DAYLIGHT
BEGIN:STANDARD
TZOFFSETFROM:+0200
TZOFFSETTO:+0100
TZNAME:CET
DTSTART:20241027T010000
END:STANDARD
END:VTIMEZONE
BEGIN:VEVENT
DTSTART;VALUE=DATE:20240401
DTEND;VALUE=DATE:20240402
DTSTAMP:20260424T020023
CREATED:20230629T132625Z
LAST-MODIFIED:20230629T132625Z
UID:14950-1711929600-1712015999@www.lifb.org
SUMMARY:Challenge Poussins
DESCRIPTION:
URL:https://www.lifb.org/evenement/challenge-poussins/
LOCATION:A définir
CATEGORIES:Compétitions Ligue
END:VEVENT
BEGIN:VEVENT
DTSTART;VALUE=DATE:20240402
DTEND;VALUE=DATE:20240403
DTSTAMP:20260424T020023
CREATED:20240318T144307Z
LAST-MODIFIED:20240318T144307Z
UID:18141-1712016000-1712102399@www.lifb.org
SUMMARY:Lancement de la SOP (Semaine Olympique et Paralympique)
DESCRIPTION:
URL:https://www.lifb.org/evenement/lancement-de-la-sop-semaine-olympique-et-paralympique/
LOCATION:Adidas Aren\, 56 Bd Ney\, PARIS\, 75018
CATEGORIES:Développement
END:VEVENT
BEGIN:VEVENT
DTSTART;TZID=Europe/Paris:20240402T080000
DTEND;TZID=Europe/Paris:20240406T170000
DTSTAMP:20260424T020023
CREATED:20240318T144145Z
LAST-MODIFIED:20240318T144518Z
UID:18139-1712044800-1712422800@www.lifb.org
SUMMARY:Semaine Olympique et Paralympique (SOP)
DESCRIPTION:
URL:https://www.lifb.org/evenement/semaine-olympique-et-paralympique-2/
CATEGORIES:Développement
END:VEVENT
BEGIN:VEVENT
DTSTART;VALUE=DATE:20240403
DTEND;VALUE=DATE:20240404
DTSTAMP:20260424T020023
CREATED:20240318T144814Z
LAST-MODIFIED:20240318T144814Z
UID:18149-1712102400-1712188799@www.lifb.org
SUMMARY:Événement SOP (Semaine Olympique et Paralympique)
DESCRIPTION:
URL:https://www.lifb.org/evenement/evenement-sop-semaine-olympique-et-paralympique/
LOCATION:Vaires-sur-Marne\, Vaires-sur-Marne\, 77360\, France
CATEGORIES:Développement
END:VEVENT
BEGIN:VEVENT
DTSTART;VALUE=DATE:20240404
DTEND;VALUE=DATE:20240408
DTSTAMP:20260424T020023
CREATED:20240205T104422Z
LAST-MODIFIED:20240205T104422Z
UID:17774-1712188800-1712534399@www.lifb.org
SUMMARY:FZ FORZA Alpes International U19 2024
DESCRIPTION:
URL:https://www.lifb.org/evenement/fz-forza-alpes-international-u19-2024/
LOCATION:Voiron (38)\, Voiron
CATEGORIES:Compétition Internationales
END:VEVENT
BEGIN:VEVENT
DTSTART;VALUE=DATE:20240406
DTEND;VALUE=DATE:20240408
DTSTAMP:20260424T020023
CREATED:20230913T145809Z
LAST-MODIFIED:20230913T150440Z
UID:15686-1712361600-1712534399@www.lifb.org
SUMMARY:Qualifications Championnats de France Jeunes
DESCRIPTION:
URL:https://www.lifb.org/evenement/qualifications-championnats-de-france-jeunes/
LOCATION:Saint-Maur-des-Fossés\, Saint-Maur-des-Fossés\, France
CATEGORIES:Compétition Internationales
END:VEVENT
BEGIN:VEVENT
DTSTART;VALUE=DATE:20240412
DTEND;VALUE=DATE:20240415
DTSTAMP:20260424T020023
CREATED:20230913T150351Z
LAST-MODIFIED:20230913T150351Z
UID:15697-1712880000-1713139199@www.lifb.org
SUMMARY:Circuit Élite Jeunes n°5
DESCRIPTION:
URL:https://www.lifb.org/evenement/circuit-elite-jeunes-n5/
LOCATION:L’Haÿ-les-Roses\, L'Haÿ-les-Roses\, 94240\, France
CATEGORIES:Compétition Internationales
END:VEVENT
BEGIN:VEVENT
DTSTART;VALUE=DATE:20240413
DTEND;VALUE=DATE:20240415
DTSTAMP:20260424T020023
CREATED:20230629T132656Z
LAST-MODIFIED:20230913T145047Z
UID:14952-1712966400-1713139199@www.lifb.org
SUMMARY:Tournoi Labellisé Jeunes n°5
DESCRIPTION:
URL:https://www.lifb.org/evenement/tournoi-labellise-jeunes-n5-2/
LOCATION:Jouy Le Moutier\, Jouy le Moutier
CATEGORIES:Compétitions Ligue
END:VEVENT
BEGIN:VEVENT
DTSTART;VALUE=DATE:20240420
DTEND;VALUE=DATE:20240421
DTSTAMP:20260424T020023
CREATED:20240130T092123Z
LAST-MODIFIED:20240130T092123Z
UID:17717-1713571200-1713657599@www.lifb.org
SUMMARY:Formation Juge-Arbitre de Ligue Accrédité - 91
DESCRIPTION:
URL:https://www.lifb.org/evenement/formation-juge-arbitre-de-ligue-accredite-91/
LOCATION:Mennecy\, Mennecy\, France
CATEGORIES:Formations OT
END:VEVENT
BEGIN:VEVENT
DTSTART;VALUE=DATE:20240424
DTEND;VALUE=DATE:20240425
DTSTAMP:20260424T020023
CREATED:20240318T144611Z
LAST-MODIFIED:20240318T144611Z
UID:18146-1713916800-1714003199@www.lifb.org
SUMMARY:Journée Évasion Premiers de Cordée
DESCRIPTION:
URL:https://www.lifb.org/evenement/journee-evasion-premiers-de-cordee/
LOCATION:Stade de France
CATEGORIES:Développement
END:VEVENT
END:VCALENDAR